BEGIN:VCALENDAR
VERSION:2.0
PRODID:-//NAIFA-Florida - ECPv6.15.16//NONSGML v1.0//EN
CALSCALE:GREGORIAN
METHOD:PUBLISH
X-ORIGINAL-URL:https://studymanuals.naifa-florida.org
X-WR-CALDESC:Events for NAIFA-Florida
REFRESH-INTERVAL;VALUE=DURATION:PT1H
X-Robots-Tag:noindex
X-PUBLISHED-TTL:PT1H
BEGIN:VTIMEZONE
TZID:America/New_York
BEGIN:DAYLIGHT
TZOFFSETFROM:-0500
TZOFFSETTO:-0400
TZNAME:EDT
DTSTART:20210314T070000
END:DAYLIGHT
BEGIN:STANDARD
TZOFFSETFROM:-0400
TZOFFSETTO:-0500
TZNAME:EST
DTSTART:20211107T060000
END:STANDARD
BEGIN:DAYLIGHT
TZOFFSETFROM:-0500
TZOFFSETTO:-0400
TZNAME:EDT
DTSTART:20220313T070000
END:DAYLIGHT
BEGIN:STANDARD
TZOFFSETFROM:-0400
TZOFFSETTO:-0500
TZNAME:EST
DTSTART:20221106T060000
END:STANDARD
BEGIN:DAYLIGHT
TZOFFSETFROM:-0500
TZOFFSETTO:-0400
TZNAME:EDT
DTSTART:20230312T070000
END:DAYLIGHT
BEGIN:STANDARD
TZOFFSETFROM:-0400
TZOFFSETTO:-0500
TZNAME:EST
DTSTART:20231105T060000
END:STANDARD
END:VTIMEZONE
BEGIN:VEVENT
DTSTART;TZID=America/New_York:20220131T140000
DTEND;TZID=America/New_York:20220201T170000
DTSTAMP:20260421T082411
CREATED:20211101T191536Z
LAST-MODIFIED:20211109T143449Z
UID:32191-1643637600-1643734800@studymanuals.naifa-florida.org
SUMMARY:2022 Legislative Day on the Hill
DESCRIPTION:2022 Legislative Day on the Hill\nMonday\, Jan. 31 – Tuesday\, Feb. 1\nTallahassee\, FL\n\n\n\n\n\n\n\n\n\n\n\n\n\n\n\n \nThe 2022 Legislative Day on the Hill returns as in-person event!\nYour participation provides valuable support to Tim and his year-round work of meeting with members of the Legislature to protect our industry and our pocketbooks! \nHear from top legislative and regulatory leaders in Tallahassee.\nBe informed about the latest bills and issues to come before the Legislature and DFS in 2022.\nHear NAIFA-Florida Lobbyist\, Tim Meenan’s overview of the 2022 Legislative Session and how it will impact our members.\nQ&A period for all speakers.\nAll NAIFA-Florida members invited – especially our Young Advisors!
URL:https://studymanuals.naifa-florida.org/event/2022-legislative-day-on-the-hill/
LOCATION:Florida State Conference Center\, 555 W. Pensacola Street\, Tallahassee\, FL\, 32306
CATEGORIES:Continuing Education,In Person Event,Legislative Event,Members Only,New Members,YAT
END:VEVENT
BEGIN:VEVENT
DTSTART;TZID=America/New_York:20220209T180000
DTEND;TZID=America/New_York:20220209T193000
DTSTAMP:20260421T082411
CREATED:20220207T142341Z
LAST-MODIFIED:20220207T142349Z
UID:33130-1644429600-1644435000@studymanuals.naifa-florida.org
SUMMARY:NAIFA Tampa Bay POP UP SOCIAL
DESCRIPTION:Join us Wednesday evening for a mid week pause. Enjoy friendly cocktails with a spectacular view of Downtown Tampa with fellow NAIFA Members & Guests.\n\nWednesday\, February 9th\n6:00 – 7:30 pm\n\nArmature Works\n(The Bar by Market Hall)\n1910 N Ola Ave\, Tampa\, FL\nVENUE MAP\n\nNo Charge Event\nRSVP Suggested\, Not Required\n\nDon’t Forget to Bring a Guest!
URL:https://studymanuals.naifa-florida.org/event/naifa-tampa-bay-pop-up-social/
LOCATION:Armature Works\, 1910 N. Ola Avenue\, Tampa\, FL
CATEGORIES:Chapter Event,In Person Event,Membership,Mixer,Networking,New Members,Non-Members,Open to Members & Non-Members
ORGANIZER;CN="NAIFA-Tampa Bay":MAILTO:info@naifatampa.org
END:VEVENT
BEGIN:VEVENT
DTSTART;TZID=America/New_York:20220211T150000
DTEND;TZID=America/New_York:20220211T160000
DTSTAMP:20260421T082411
CREATED:20220105T195855Z
LAST-MODIFIED:20220105T195855Z
UID:32806-1644591600-1644595200@studymanuals.naifa-florida.org
SUMMARY:Home Equity and Roth Conversions
DESCRIPTION:Harlan Accola\, CRMP\, CSA\nFairway\nNational Reverse Mortgage Director\nJim Silbernagel\, CFP\, CEPS\, LACP\, LUTCF\nReal Wealth\nFounder and Creator\nFebruary 11th\n3:00 PM Eastern\n\nLearn from a cutting-edge financial advisor and educator Jim Silbernagel as he is interviewed by Harlan Accola to tell about real-life client cases that reduced taxes and changed lives for the better! \n\nThe webinar is brought to you by
URL:https://studymanuals.naifa-florida.org/event/home-equity-and-roth-conversions/
LOCATION:ZOOM
CATEGORIES:Business Performance Center,Virtual
ORGANIZER;CN="NAIFA":MAILTO:info@naifa.org
END:VEVENT
BEGIN:VEVENT
DTSTART;TZID=America/New_York:20220215T130000
DTEND;TZID=America/New_York:20220215T140000
DTSTAMP:20260421T082411
CREATED:20220207T143416Z
LAST-MODIFIED:20220207T143416Z
UID:33135-1644930000-1644933600@studymanuals.naifa-florida.org
SUMMARY:Webinar: Tech Tools to Grow Your Long-Term Care Practice
DESCRIPTION:February 15th | 1 pm eastern \nSince the first run of this webinar was so popular\, we are offering it one more time! \n  \nLearn about Carefull\, the new technology tool that will open your practice to cultivate new relationships and deepen your current ones. Leverage data to learn more about your clients and where you can make the most impact. Speakers include Michael Rubel\, Carefull’s Product Strategy Lead; Carefull Co-Founder\, Todd Rovak; Cameron Huddleston\, Director of Education and Content at Carefull.
URL:https://studymanuals.naifa-florida.org/event/webinar-tech-tools-to-grow-your-long-term-care-practice/
LOCATION:ZOOM
CATEGORIES:Limited & Extended Care Planning Center,Virtual
ORGANIZER;CN="NAIFA":MAILTO:info@naifa.org
END:VEVENT
BEGIN:VEVENT
DTSTART;TZID=America/New_York:20220216T100000
DTEND;TZID=America/New_York:20220216T110000
DTSTAMP:20260421T082411
CREATED:20220201T160252Z
LAST-MODIFIED:20220201T160626Z
UID:33074-1645005600-1645009200@studymanuals.naifa-florida.org
SUMMARY:NAIFA-Broward - CE CLASS: "IRS Letter 226J"
DESCRIPTION:A Professional Association of Insurance and Financial Advisors \n\n\n\nCE CLASS: “IRS Letter 226J” \nDescription:  Letter 226-J is the initial letter issued to Applicable Large Employers (ALEs) to notify them that they may be liable for an Employer Shared Responsibility Payment (ESRP). \nDate: Wednesday\, February 16\, 2022 \nTime: 10:00 AM – 11:00 AM \nLocation: Zoom \nMeeting Type: Online \n  \nMODERATED BY: \n \n Susan Luskin\, FLMI\, CLU\, CEBS\, RHU\, ChHC\, \nDiversified Administration\, Inc. \nRegistration\nClick Here for Member Registration – Zoom – Free\nClick Here for Non-Member Registration – Zoom – $10
URL:https://studymanuals.naifa-florida.org/event/33074/
LOCATION:ZOOM
CATEGORIES:Chapter Event,Continuing Education,New Members,Non-Members,Open to Members & Non-Members,Professional Development,Virtual
ORGANIZER;CN="NAIFA-Broward":MAILTO:admin@naifa-broward.org
END:VEVENT
BEGIN:VEVENT
DTSTART;TZID=America/New_York:20220217T140000
DTEND;TZID=America/New_York:20220217T150000
DTSTAMP:20260421T082411
CREATED:20220201T164251Z
LAST-MODIFIED:20220201T164251Z
UID:33080-1645106400-1645110000@studymanuals.naifa-florida.org
SUMMARY:MEMBERS ONLY: NAIFA Live
DESCRIPTION:The Champion’s Code: Building Relationships Through Life Lessons of Integrity and Accountability from the Sports World to the Business World\n \nRoss Bernstein\nInspirational Business Keynote Speaker\n& Best-Selling Author\nThursday\, February 17th\, 2022\n2 pm eastern\nRoss’ program is all about the DNA of what makes champions in sports so unique and how that relates to business. It’s based on a series of books he wrote in which he was able to interview more than 1\,000 professional athletes and coaches that all had one thing in common — they were all members of championship teams. In his research\, he concluded that the same metrics and characteristics that were common among champions in sports were also common among peak performers in the business. There are reasons certain teams win consistently\, whereas others don’t… and Ross explains why.
URL:https://studymanuals.naifa-florida.org/event/members-only-naifa-live-2/
LOCATION:ZOOM
CATEGORIES:Members Only,NAIFA Live,Virtual
ORGANIZER;CN="NAIFA":MAILTO:info@naifa.org
END:VEVENT
BEGIN:VEVENT
DTSTART;TZID=America/New_York:20220223T090000
DTEND;TZID=America/New_York:20220223T120000
DTSTAMP:20260421T082411
CREATED:20220207T143125Z
LAST-MODIFIED:20220207T143125Z
UID:33133-1645606800-1645617600@studymanuals.naifa-florida.org
SUMMARY:Diversity Symposium
DESCRIPTION:May 23rd  | 9 am – 12 pm eastern\nWashington\, D.C. \nNAIFA’s Diversity Symposium comes back in person for 2022. Join us for our 7th Symposium in Washington\, D.C. on May 23rd. This year’s program is shaping up to be a strong lineup of influential leaders in the industry and DEI space. Speaker line up to be announced soon. This year we will be focusing on two main topics: “Underserved Does Not Mean Under-Funded” and “Recruiting Today’s Generation”. \nThere is no cost to attend the symposium. Participants are encouraged to register for Congressional Conference immediately following the Diversity Symposium. \n 
URL:https://studymanuals.naifa-florida.org/event/diversity-symposium/
LOCATION:Washington DC\, Washington DC
CATEGORIES:Conference,In Person Event,Talent Development Center
ORGANIZER;CN="NAIFA":MAILTO:info@naifa.org
END:VEVENT
BEGIN:VEVENT
DTSTART;TZID=America/New_York:20220224T113000
DTEND;TZID=America/New_York:20220224T130000
DTSTAMP:20260421T082411
CREATED:20220208T143219Z
LAST-MODIFIED:20220208T143249Z
UID:33151-1645702200-1645707600@studymanuals.naifa-florida.org
SUMMARY:NAIFA Northeast Florida Chapter Meeting
DESCRIPTION:Thursday\, February 24\, 2022\nThe Impact of Health on You\,\nYour Clients and Your Bottom Line\n\nDr. Vasco Valov \nNew Venue\nTerra Gaucha Brazilian Steakhouse\n4483 Southside Blvd.\nJacksonville\, FL  32216\n(Please understand that we may not be able to accommodate walk in’s) \n“Chapter President Peachie Thompson will co present with D. Valov.  Attendees will learn how health affects your performance and ability to serve your clients as well as what you can do about it.  Peachie and Dr. V will also discuss what happens and what it means for your business when you have a client that is not healthy”. \nCost $25 members\, $30 non members.\nOnline prepay and RSVP required by Friday\, February 18th. \n\n_______________________________\nChapter Leaders \nPresident – Peachie Thompson\nPresident Elect – April Murdaugh\nImmediate Past President – Matthew Campbell\nSecretary/Treasurer – Rachel DuBois\nNational Committeeperson – William “Gene” Bryant\nBoard Members:\nAlicia Burst\nScott Fjelstad\nCurtis James\nWilliam O’Leary\nChristopher Patrick\nChayne Riggs\nDaniel Tuchman\nPrice Wheeler \nIn 2022 our monthly meetings will move to the 4th Thursday of each the month 11:30am – 1:00pm.
URL:https://studymanuals.naifa-florida.org/event/naifa-northeast-florida-chapter-meeting-2/
LOCATION:Terra Gaucha Brazilian Steakhouse\, 4483 Southside Blvd.\, Jacksonville\, FL\, 32216
CATEGORIES:Chapter Event,In Person Event,Membership,Networking,New Members,Non-Members,Open to Members & Non-Members
ORGANIZER;CN="NAIFA-Northeast Florida":MAILTO:info@naifa-jacksonville.org
END:VEVENT
BEGIN:VEVENT
DTSTART;TZID=America/New_York:20220224T113000
DTEND;TZID=America/New_York:20220224T130000
DTSTAMP:20260421T082411
CREATED:20220209T135605Z
LAST-MODIFIED:20220209T135617Z
UID:33175-1645702200-1645707600@studymanuals.naifa-florida.org
SUMMARY:NAIFA/CF January Luncheon
DESCRIPTION:Open More Doors – Close More Sales!\nPresenter:\n\n\n\n\n\n\n\n\n\nSteven Saladino\, RICP®\, LACP\, LUTCF®\nPrincipal® Financial Network Of West Central & South Florida \nManaging Director\nPrincipal Securities Registered Representative\nFinancial Advisor \nYou’ll learn about:\n\nHow “being” NAIFA and not “doing” NAIFA has been essential for this 31-year veteran in growing his network and practice while serving as a volunteer leader member\nMaximizing your investment in NAIFA membership\nDeveloping profitable and long-term friendships and strategic alliances with fellow NAIFA members.\n\nLearn why presenter Mr. Steven Saladino\, Managing Director for Principal has joined NAIFA and his engagement as a member.\n\n\n\n  \nMEETING INFORMATION\n11:30 am – 1:00 pm on Thursday\, February 24\, 2022\nDubsdread Golf Course\n549 West Par Road\, Orlando  \nCost:\nMember of NAIFA  In Person  $20.00\nNon-Members In-Person $25.00\nMember PrePay For Year $160.00\nInvited and First-Time Guests – FREE
URL:https://studymanuals.naifa-florida.org/event/naifa-cf-january-luncheon-2/
LOCATION:Dubsdread Golf Course\, 549 W Par Street\, Orlando\, FL\, 32804
CATEGORIES:Chapter Event,In Person Event,Membership,New Members,Non-Members,Open to Members & Non-Members
ORGANIZER;CN="NAIFA-Central Florida":MAILTO:paula@naifacf.org
END:VEVENT
END:VCALENDAR