BEGIN:VCALENDAR
VERSION:2.0
PRODID:-//NAIFA-Florida - ECPv6.15.16//NONSGML v1.0//EN
CALSCALE:GREGORIAN
METHOD:PUBLISH
X-WR-CALNAME:NAIFA-Florida
X-ORIGINAL-URL:https://studymanuals.naifa-florida.org
X-WR-CALDESC:Events for NAIFA-Florida
REFRESH-INTERVAL;VALUE=DURATION:PT1H
X-Robots-Tag:noindex
X-PUBLISHED-TTL:PT1H
BEGIN:VTIMEZONE
TZID:America/New_York
BEGIN:DAYLIGHT
TZOFFSETFROM:-0500
TZOFFSETTO:-0400
TZNAME:EDT
DTSTART:20200308T070000
END:DAYLIGHT
BEGIN:STANDARD
TZOFFSETFROM:-0400
TZOFFSETTO:-0500
TZNAME:EST
DTSTART:20201101T060000
END:STANDARD
BEGIN:DAYLIGHT
TZOFFSETFROM:-0500
TZOFFSETTO:-0400
TZNAME:EDT
DTSTART:20210314T070000
END:DAYLIGHT
BEGIN:STANDARD
TZOFFSETFROM:-0400
TZOFFSETTO:-0500
TZNAME:EST
DTSTART:20211107T060000
END:STANDARD
BEGIN:DAYLIGHT
TZOFFSETFROM:-0500
TZOFFSETTO:-0400
TZNAME:EDT
DTSTART:20220313T070000
END:DAYLIGHT
BEGIN:STANDARD
TZOFFSETFROM:-0400
TZOFFSETTO:-0500
TZNAME:EST
DTSTART:20221106T060000
END:STANDARD
END:VTIMEZONE
BEGIN:VEVENT
DTSTART;TZID=America/New_York:20210421T090000
DTEND;TZID=America/New_York:20210421T100000
DTSTAMP:20260423T175254
CREATED:20210406T133107Z
LAST-MODIFIED:20210406T133305Z
UID:29450-1618995600-1618999200@studymanuals.naifa-florida.org
SUMMARY:Developing an Effective Income Strategy
DESCRIPTION:SPECIAL INVITATION FOR ALL MEMBERS!\nNAIFA Virtual Meeting hosted by NAIFA-Broward! Register Today! \n\nWednesday\, April 21st\, 2021 \n9:00 am – 10:00 am via Zoom  \nGUEST SPEAKER: \n \nChristopher Rosoff \nVice President\, Fidelity Institutional \nCLICK FOR MORE ABOUT CHRISTOPHER ROSOFF \n“Developing an Effective Income Strategy – Consider Investor Portfolios from Different Perspectives” \nADVANCE REGISTRATION IS REQUIRED  \nFREE for NAIFA Members\, $10.00 for Non-Members. \nZoom link / invite will be sent before the meeting. \n \nCLICK HERE TO REGISTER TODAY! \nFor more information\, please contact NAIFA-Broward Association Executive Rhonda Milrot at (954) 753-2262 or admin@naifa-broward.org.
URL:https://studymanuals.naifa-florida.org/event/naifa-miami-dade-virtual-meeting-developing-an-effective-income-strategy/
LOCATION:ZOOM
CATEGORIES:Chapter Event,Open to Members & Non-Members,Virtual
ORGANIZER;CN="NAIFA-Miami Dade":MAILTO:naifamiamidadeinfo@gmail.com
END:VEVENT
BEGIN:VEVENT
DTSTART;TZID=America/New_York:20210415T113000
DTEND;TZID=America/New_York:20210415T130000
DTSTAMP:20260423T175254
CREATED:20210310T135825Z
LAST-MODIFIED:20210409T145317Z
UID:29135-1618486200-1618491600@studymanuals.naifa-florida.org
SUMMARY:NAIFA-Northeast Florida Chapter Meeting
DESCRIPTION:April 15\, 2021\n11:30 AM-1:00 PM EASTERN\nLOCATION:\nBonefish Grill\n10950 San Jose Boulevard\nJacksonville\, FL  32223 \n \n  \n  \n  \n  \nTips to use in educating your clients. Being financially stable does not come naturally. These proven tips can help you build credibility with your clients. Be that advisor to help educate their children. Teens are especially vulnerable as they move into being a young adult. Your client’s children need to learn good habits. This also builds an advisors credibility with the family and ultimately grows their business. \nCLICK HERE TO REGISTER!  \n\nVirtual attendees register here to receive log in credentials. 
URL:https://studymanuals.naifa-florida.org/event/naifa-northeast-florida-chapter-meeting/
LOCATION:Bonefish Grill\, 10950 San Jose Boulevard\, Jacksonville\, FL\, 32223
CATEGORIES:Chapter Event,In Person Event,Open to Members & Non-Members,Virtual
ORGANIZER;CN="NAIFA-Northeast Florida":MAILTO:info@naifa-jacksonville.org
END:VEVENT
BEGIN:VEVENT
DTSTART;TZID=America/New_York:20210401T083000
DTEND;TZID=America/New_York:20210401T103000
DTSTAMP:20260423T175254
CREATED:20210319T132855Z
LAST-MODIFIED:20210319T151446Z
UID:29264-1617265800-1617273000@studymanuals.naifa-florida.org
SUMMARY:CE:  Social Security & Medicare …. Understanding the Benefits Webinar
DESCRIPTION:April 1\, 2021\n8:30 am to 10:30 am\n Social Security & Medicare …. Understanding the Benefits Webinar \nInstructor:    Scott Rosen\, LUTCF  (Instructor ID:  739112) \nCost:FREE\nVirtual\n2 hrs  FL Insurance CE\, 2 hrs CPE\,  2 hrs PACE \nFlorida:  92491   Florida Course Offering ID: 1140147 \nMassMutual Life Insurance Company Provider #84 \nRSVP Directly to Scott: ScottR@cfnsfl.com
URL:https://studymanuals.naifa-florida.org/event/29264/
LOCATION:ZOOM
CATEGORIES:Continuing Education,Open to Members & Non-Members,Virtual
END:VEVENT
BEGIN:VEVENT
DTSTART;TZID=America/New_York:20210326T111500
DTEND;TZID=America/New_York:20210326T133000
DTSTAMP:20260423T175254
CREATED:20210319T131402Z
LAST-MODIFIED:20210319T131402Z
UID:29262-1616757300-1616765400@studymanuals.naifa-florida.org
SUMMARY:NAIFA/CF Virtual CE Class - 2 Hours
DESCRIPTION:NAIFA Central Florida\nTwo Hours CE Class\nNAIFA-CF is pleased to offer a two hours CE class on Friday\, March 26\, 2021 from 11:15 am to 1:30 pm.\nTOPIC: Reasons To Consider Long Term Care – Virtual Class Course #116914 Course Offering #1140309\nInstructor: Michael Aun\, FIC\, LUTCF\, CSP®\, CPAE Speaker Hall of Fame® \nFrom 11:15-11:30 is a Million Dollar Sales Idea and the CE Class is from 11:30 am to 1:30 pm. \nCOST\nNAIFA Members – Free\nNon-Members $15 \nClick the link below to register for the ZOOM call. You MUST register to participate. The link to Zoom will be provided in your registration confirmation email. If you do not receive a confirmation email immediately after registering\, please check your spam folder. A reminder email will be sent the morning of the class. \n_________________________\nFriday\, March 26\, 2021\n11:15 am to 1:30 pm\nYour location\n_________________________
URL:https://studymanuals.naifa-florida.org/event/naifa-cf-virtual-ce-class-2-hours/
LOCATION:ZOOM
CATEGORIES:Continuing Education,Open to Members & Non-Members,Virtual
ORGANIZER;CN="NAIFA-Central Florida":MAILTO:paula@naifacf.org
END:VEVENT
BEGIN:VEVENT
DTSTART;TZID=America/New_York:20210317T090000
DTEND;TZID=America/New_York:20210317T220000
DTSTAMP:20260423T175254
CREATED:20210310T182028Z
LAST-MODIFIED:20210310T182102Z
UID:29168-1615971600-1616018400@studymanuals.naifa-florida.org
SUMMARY:NAIFA-Broward - "SENSE-ational Client Service" 
DESCRIPTION:  \nREGISTER TODAY!\nNAIFA-Broward Virtual Meeting! \n Wednesday\, March 17th\, 2021  \n 9:00 am – 10:00 am via Zoom \n Featured Speaker: \n Bryon A. Holz\, CLU\, ChFC\, LUTCF\, CASL\, LACP\n\n \n“SENSE-ational Client Service” \nBryon Holz will share his unique and powerful client and prospect engagement strategies\, utilizing the full palette of senses. Learn how improved connections and strengthened brand messaging can cut through modern media clutter\, resulting in more informed\, more satisfied\, longer-lasting client relationships. Don’t miss this long-time NAIFA leader’s SENSE-ational presentation\, Bryon’s Best! \nCLICK FOR MORE ABOUT BRYON \nMotivation  \nSales/Practice Management Ideas for our Current Environment  \nUpdate on NAIFA National \nADVANCE REGISTRATION IS REQUIRED  \nFREE for Members\, $10.00 for Non-Members. \n Zoom link / invite will be sent before the meeting.  \n \nCLICK HERE TO REGISTER TODAY!  \n For more information\, please contact NAIFA-Broward Association Executive Rhonda Milrot at (954) 753-2262 or admin@naifa-broward.org.
URL:https://studymanuals.naifa-florida.org/event/naifa-broward-sense-ational-client-service/
LOCATION:ZOOM
CATEGORIES:Chapter Event,Open to Members & Non-Members,Virtual
ORGANIZER;CN="NAIFA-Broward":MAILTO:admin@naifa-broward.org
END:VEVENT
END:VCALENDAR