BEGIN:VCALENDAR
VERSION:2.0
PRODID:-//NAIFA-Florida - ECPv6.15.16//NONSGML v1.0//EN
CALSCALE:GREGORIAN
METHOD:PUBLISH
X-WR-CALNAME:NAIFA-Florida
X-ORIGINAL-URL:https://studymanuals.naifa-florida.org
X-WR-CALDESC:Events for NAIFA-Florida
REFRESH-INTERVAL;VALUE=DURATION:PT1H
X-Robots-Tag:noindex
X-PUBLISHED-TTL:PT1H
BEGIN:VTIMEZONE
TZID:America/New_York
BEGIN:DAYLIGHT
TZOFFSETFROM:-0500
TZOFFSETTO:-0400
TZNAME:EDT
DTSTART:20210314T070000
END:DAYLIGHT
BEGIN:STANDARD
TZOFFSETFROM:-0400
TZOFFSETTO:-0500
TZNAME:EST
DTSTART:20211107T060000
END:STANDARD
BEGIN:DAYLIGHT
TZOFFSETFROM:-0500
TZOFFSETTO:-0400
TZNAME:EDT
DTSTART:20220313T070000
END:DAYLIGHT
BEGIN:STANDARD
TZOFFSETFROM:-0400
TZOFFSETTO:-0500
TZNAME:EST
DTSTART:20221106T060000
END:STANDARD
BEGIN:DAYLIGHT
TZOFFSETFROM:-0500
TZOFFSETTO:-0400
TZNAME:EDT
DTSTART:20230312T070000
END:DAYLIGHT
BEGIN:STANDARD
TZOFFSETFROM:-0400
TZOFFSETTO:-0500
TZNAME:EST
DTSTART:20231105T060000
END:STANDARD
END:VTIMEZONE
BEGIN:VEVENT
DTSTART;TZID=America/New_York:20220223T090000
DTEND;TZID=America/New_York:20220223T120000
DTSTAMP:20260421T082352
CREATED:20220207T143125Z
LAST-MODIFIED:20220207T143125Z
UID:33133-1645606800-1645617600@studymanuals.naifa-florida.org
SUMMARY:Diversity Symposium
DESCRIPTION:May 23rd  | 9 am – 12 pm eastern\nWashington\, D.C. \nNAIFA’s Diversity Symposium comes back in person for 2022. Join us for our 7th Symposium in Washington\, D.C. on May 23rd. This year’s program is shaping up to be a strong lineup of influential leaders in the industry and DEI space. Speaker line up to be announced soon. This year we will be focusing on two main topics: “Underserved Does Not Mean Under-Funded” and “Recruiting Today’s Generation”. \nThere is no cost to attend the symposium. Participants are encouraged to register for Congressional Conference immediately following the Diversity Symposium. \n 
URL:https://studymanuals.naifa-florida.org/event/diversity-symposium/
LOCATION:Washington DC\, Washington DC
CATEGORIES:Conference,In Person Event,Talent Development Center
ORGANIZER;CN="NAIFA":MAILTO:info@naifa.org
END:VEVENT
END:VCALENDAR