BEGIN:VCALENDAR
VERSION:2.0
PRODID:-//NAIFA-Florida - ECPv6.15.16//NONSGML v1.0//EN
CALSCALE:GREGORIAN
METHOD:PUBLISH
X-WR-CALNAME:NAIFA-Florida
X-ORIGINAL-URL:https://studymanuals.naifa-florida.org
X-WR-CALDESC:Events for NAIFA-Florida
REFRESH-INTERVAL;VALUE=DURATION:PT1H
X-Robots-Tag:noindex
X-PUBLISHED-TTL:PT1H
BEGIN:VTIMEZONE
TZID:America/New_York
BEGIN:DAYLIGHT
TZOFFSETFROM:-0500
TZOFFSETTO:-0400
TZNAME:EDT
DTSTART:20210314T070000
END:DAYLIGHT
BEGIN:STANDARD
TZOFFSETFROM:-0400
TZOFFSETTO:-0500
TZNAME:EST
DTSTART:20211107T060000
END:STANDARD
BEGIN:DAYLIGHT
TZOFFSETFROM:-0500
TZOFFSETTO:-0400
TZNAME:EDT
DTSTART:20220313T070000
END:DAYLIGHT
BEGIN:STANDARD
TZOFFSETFROM:-0400
TZOFFSETTO:-0500
TZNAME:EST
DTSTART:20221106T060000
END:STANDARD
BEGIN:DAYLIGHT
TZOFFSETFROM:-0500
TZOFFSETTO:-0400
TZNAME:EDT
DTSTART:20230312T070000
END:DAYLIGHT
BEGIN:STANDARD
TZOFFSETFROM:-0400
TZOFFSETTO:-0500
TZNAME:EST
DTSTART:20231105T060000
END:STANDARD
END:VTIMEZONE
BEGIN:VEVENT
DTSTART;TZID=America/New_York:20220216T100000
DTEND;TZID=America/New_York:20220216T110000
DTSTAMP:20260421T141532
CREATED:20220201T160252Z
LAST-MODIFIED:20220201T160626Z
UID:33074-1645005600-1645009200@studymanuals.naifa-florida.org
SUMMARY:NAIFA-Broward - CE CLASS: "IRS Letter 226J"
DESCRIPTION:A Professional Association of Insurance and Financial Advisors \n\n\n\nCE CLASS: “IRS Letter 226J” \nDescription:  Letter 226-J is the initial letter issued to Applicable Large Employers (ALEs) to notify them that they may be liable for an Employer Shared Responsibility Payment (ESRP). \nDate: Wednesday\, February 16\, 2022 \nTime: 10:00 AM – 11:00 AM \nLocation: Zoom \nMeeting Type: Online \n  \nMODERATED BY: \n \n Susan Luskin\, FLMI\, CLU\, CEBS\, RHU\, ChHC\, \nDiversified Administration\, Inc. \nRegistration\nClick Here for Member Registration – Zoom – Free\nClick Here for Non-Member Registration – Zoom – $10
URL:https://studymanuals.naifa-florida.org/event/33074/
LOCATION:ZOOM
CATEGORIES:Chapter Event,Continuing Education,New Members,Non-Members,Open to Members & Non-Members,Professional Development,Virtual
ORGANIZER;CN="NAIFA-Broward":MAILTO:admin@naifa-broward.org
END:VEVENT
END:VCALENDAR