BEGIN:VCALENDAR
VERSION:2.0
PRODID:-//NAIFA-Florida - ECPv6.15.16//NONSGML v1.0//EN
CALSCALE:GREGORIAN
METHOD:PUBLISH
X-WR-CALNAME:NAIFA-Florida
X-ORIGINAL-URL:https://studymanuals.naifa-florida.org
X-WR-CALDESC:Events for NAIFA-Florida
REFRESH-INTERVAL;VALUE=DURATION:PT1H
X-Robots-Tag:noindex
X-PUBLISHED-TTL:PT1H
BEGIN:VTIMEZONE
TZID:America/New_York
BEGIN:DAYLIGHT
TZOFFSETFROM:-0500
TZOFFSETTO:-0400
TZNAME:EDT
DTSTART:20210314T070000
END:DAYLIGHT
BEGIN:STANDARD
TZOFFSETFROM:-0400
TZOFFSETTO:-0500
TZNAME:EST
DTSTART:20211107T060000
END:STANDARD
BEGIN:DAYLIGHT
TZOFFSETFROM:-0500
TZOFFSETTO:-0400
TZNAME:EDT
DTSTART:20220313T070000
END:DAYLIGHT
BEGIN:STANDARD
TZOFFSETFROM:-0400
TZOFFSETTO:-0500
TZNAME:EST
DTSTART:20221106T060000
END:STANDARD
BEGIN:DAYLIGHT
TZOFFSETFROM:-0500
TZOFFSETTO:-0400
TZNAME:EDT
DTSTART:20230312T070000
END:DAYLIGHT
BEGIN:STANDARD
TZOFFSETFROM:-0400
TZOFFSETTO:-0500
TZNAME:EST
DTSTART:20231105T060000
END:STANDARD
END:VTIMEZONE
BEGIN:VEVENT
DTSTART;TZID=America/New_York:20220209T180000
DTEND;TZID=America/New_York:20220209T193000
DTSTAMP:20260421T070637
CREATED:20220207T142341Z
LAST-MODIFIED:20220207T142349Z
UID:33130-1644429600-1644435000@studymanuals.naifa-florida.org
SUMMARY:NAIFA Tampa Bay POP UP SOCIAL
DESCRIPTION:Join us Wednesday evening for a mid week pause. Enjoy friendly cocktails with a spectacular view of Downtown Tampa with fellow NAIFA Members & Guests.\n\nWednesday\, February 9th\n6:00 – 7:30 pm\n\nArmature Works\n(The Bar by Market Hall)\n1910 N Ola Ave\, Tampa\, FL\nVENUE MAP\n\nNo Charge Event\nRSVP Suggested\, Not Required\n\nDon’t Forget to Bring a Guest!
URL:https://studymanuals.naifa-florida.org/event/naifa-tampa-bay-pop-up-social/
LOCATION:Armature Works\, 1910 N. Ola Avenue\, Tampa\, FL
CATEGORIES:Chapter Event,In Person Event,Membership,Mixer,Networking,New Members,Non-Members,Open to Members & Non-Members
ORGANIZER;CN="NAIFA-Tampa Bay":MAILTO:info@naifatampa.org
END:VEVENT
END:VCALENDAR