BEGIN:VCALENDAR
VERSION:2.0
PRODID:-//NAIFA-Florida - ECPv6.15.16//NONSGML v1.0//EN
CALSCALE:GREGORIAN
METHOD:PUBLISH
X-WR-CALNAME:NAIFA-Florida
X-ORIGINAL-URL:https://studymanuals.naifa-florida.org
X-WR-CALDESC:Events for NAIFA-Florida
REFRESH-INTERVAL;VALUE=DURATION:PT1H
X-Robots-Tag:noindex
X-PUBLISHED-TTL:PT1H
BEGIN:VTIMEZONE
TZID:America/New_York
BEGIN:DAYLIGHT
TZOFFSETFROM:-0500
TZOFFSETTO:-0400
TZNAME:EDT
DTSTART:20200308T070000
END:DAYLIGHT
BEGIN:STANDARD
TZOFFSETFROM:-0400
TZOFFSETTO:-0500
TZNAME:EST
DTSTART:20201101T060000
END:STANDARD
BEGIN:DAYLIGHT
TZOFFSETFROM:-0500
TZOFFSETTO:-0400
TZNAME:EDT
DTSTART:20210314T070000
END:DAYLIGHT
BEGIN:STANDARD
TZOFFSETFROM:-0400
TZOFFSETTO:-0500
TZNAME:EST
DTSTART:20211107T060000
END:STANDARD
BEGIN:DAYLIGHT
TZOFFSETFROM:-0500
TZOFFSETTO:-0400
TZNAME:EDT
DTSTART:20220313T070000
END:DAYLIGHT
BEGIN:STANDARD
TZOFFSETFROM:-0400
TZOFFSETTO:-0500
TZNAME:EST
DTSTART:20221106T060000
END:STANDARD
END:VTIMEZONE
BEGIN:VEVENT
DTSTART;TZID=America/New_York:20211213T163000
DTEND;TZID=America/New_York:20211214T173000
DTSTAMP:20260423T152849
CREATED:20211026T201555Z
LAST-MODIFIED:20211026T202539Z
UID:32039-1639413000-1639503000@studymanuals.naifa-florida.org
SUMMARY:Installation of 2022 Board of Directors/Awards Ceremony
DESCRIPTION:Please join us both afternoons using the zoom link below. The link is the same for both days.\nJoin Zoom Meeting \nhttps://us02web.zoom.us/j/9351425169 \nDial by your location \n+1 301 715 8592 US (Washington DC)\n+1 312 626 6799 US (Chicago) \nMeeting ID: 935 142 5169
URL:https://studymanuals.naifa-florida.org/event/installation-of-2022-board-of-directors/
LOCATION:ZOOM
CATEGORIES:Awards,Board of Directors,Virtual
ORGANIZER;CN="NAIFA-Florida":MAILTO:admin@naifa-florida.org
END:VEVENT
END:VCALENDAR