BEGIN:VCALENDAR
VERSION:2.0
PRODID:-//NAIFA-Florida - ECPv6.15.16//NONSGML v1.0//EN
CALSCALE:GREGORIAN
METHOD:PUBLISH
X-WR-CALNAME:NAIFA-Florida
X-ORIGINAL-URL:https://studymanuals.naifa-florida.org
X-WR-CALDESC:Events for NAIFA-Florida
REFRESH-INTERVAL;VALUE=DURATION:PT1H
X-Robots-Tag:noindex
X-PUBLISHED-TTL:PT1H
BEGIN:VTIMEZONE
TZID:America/New_York
BEGIN:DAYLIGHT
TZOFFSETFROM:-0500
TZOFFSETTO:-0400
TZNAME:EDT
DTSTART:20200308T070000
END:DAYLIGHT
BEGIN:STANDARD
TZOFFSETFROM:-0400
TZOFFSETTO:-0500
TZNAME:EST
DTSTART:20201101T060000
END:STANDARD
BEGIN:DAYLIGHT
TZOFFSETFROM:-0500
TZOFFSETTO:-0400
TZNAME:EDT
DTSTART:20210314T070000
END:DAYLIGHT
BEGIN:STANDARD
TZOFFSETFROM:-0400
TZOFFSETTO:-0500
TZNAME:EST
DTSTART:20211107T060000
END:STANDARD
BEGIN:DAYLIGHT
TZOFFSETFROM:-0500
TZOFFSETTO:-0400
TZNAME:EDT
DTSTART:20220313T070000
END:DAYLIGHT
BEGIN:STANDARD
TZOFFSETFROM:-0400
TZOFFSETTO:-0500
TZNAME:EST
DTSTART:20221106T060000
END:STANDARD
END:VTIMEZONE
BEGIN:VEVENT
DTSTART;VALUE=DATE:20211119
DTEND;VALUE=DATE:20211120
DTSTAMP:20260423T022005
CREATED:20211019T154359Z
LAST-MODIFIED:20211019T154359Z
UID:31951-1637280000-1637366399@studymanuals.naifa-florida.org
SUMMARY:Solutions for Business Owners - 1 Hour Continuing Education
DESCRIPTION:Solutions for Business Owners\n\nPlease join us for a complimentary one-hour intermediate CE Class Credit*\nYou’ll learn more about:\n\nHow business value impacts overall planning\nSolutions to help the business owner protect their business\nThe importance of reviewing the buy-sell agreement to ensure it’s meeting the client’s objectives\nHelping business owners see how their business can play a part in their retirement income strategy\n\n  \nFriday November 19th 2021 \n  \nTwo locations available: \n\nMiami Office ~ 9-10am | 703 Waterford Way\, Suite 190 Miami\, FL 33126 (Danish & Coffee served) Offering ID: 72835\nMiramar Office ~ 12-1pm | 3401 SW 160th Ave.\, Suite 400 Miramar\, FL 33027 (Lunch served)\n\nOffering ID: 72836 \n  \nRSVP today by contacting Maria Hernandez at Hernandez.maria.i@principal.com | (954)885-5114 \n  \nPresenters:\nSteven Saladino\, RICP®\, LACP\, LUTCF®\nManaging Director \nJoseph A. Nagy\, CLF\, CLU\, LUTCF®\, RICP®\nSenior Managing Director
URL:https://studymanuals.naifa-florida.org/event/solutions-for-business-owners-1-hour-continuing-education/
CATEGORIES:Continuing Education,In Person Event,Open to Members & Non-Members
ORGANIZER;CN="Prinicpal":MAILTO:Hernandez.maria.i@principal.com
END:VEVENT
BEGIN:VEVENT
DTSTART;TZID=America/New_York:20211119T111500
DTEND;TZID=America/New_York:20211119T133000
DTSTAMP:20260423T022005
CREATED:20211112T144638Z
LAST-MODIFIED:20211112T144718Z
UID:32292-1637320500-1637328600@studymanuals.naifa-florida.org
SUMMARY:NAIFA Central Florida  Two Hours CE Class
DESCRIPTION:NAIFA Central Florida\nTwo Hours CE Class\nNAIFA-CF is pleased to offer a two hours CE class on Friday\, November 19\, 2021\, from 11:15 am to 1:30 pm.\nTOPIC: Please Don’t Put Me In A Nursing Home – Virtual Class Course #119648 Course Offering #1152040 Instructor: Brian Lazusky\nFrom 11:15-11:30 is a Million Dollar Sales Idea and the CE Class is from 11:30 am to 1:30 pm. \nCOST\nNAIFA Members – Free\nNon-Members $15 \nClick the link below to register for the ZOOM call. You MUST register to participate.  The link to Zoom will be provided in your registration confirmation email.  If you do not receive a confirmation email immediately after registering\, please check your spam folder.  A reminder email will be sent the morning of the class. \n_________________________ \nFriday\, November 19\, 2021\n11:15 am to 1:30 pm\nYour location\n_________________________
URL:https://studymanuals.naifa-florida.org/event/naifa-central-florida-two-hours-ce-class-5/
LOCATION:ZOOM
CATEGORIES:Chapter Event,Continuing Education,Non-Members,Open to Members & Non-Members,Virtual
ORGANIZER;CN="NAIFA-Central Florida":MAILTO:paula@naifacf.org
END:VEVENT
END:VCALENDAR