BEGIN:VCALENDAR
VERSION:2.0
PRODID:-//NAIFA-Florida - ECPv6.15.16//NONSGML v1.0//EN
CALSCALE:GREGORIAN
METHOD:PUBLISH
X-ORIGINAL-URL:https://studymanuals.naifa-florida.org
X-WR-CALDESC:Events for NAIFA-Florida
REFRESH-INTERVAL;VALUE=DURATION:PT1H
X-Robots-Tag:noindex
X-PUBLISHED-TTL:PT1H
BEGIN:VTIMEZONE
TZID:America/New_York
BEGIN:DAYLIGHT
TZOFFSETFROM:-0500
TZOFFSETTO:-0400
TZNAME:EDT
DTSTART:20200308T070000
END:DAYLIGHT
BEGIN:STANDARD
TZOFFSETFROM:-0400
TZOFFSETTO:-0500
TZNAME:EST
DTSTART:20201101T060000
END:STANDARD
BEGIN:DAYLIGHT
TZOFFSETFROM:-0500
TZOFFSETTO:-0400
TZNAME:EDT
DTSTART:20210314T070000
END:DAYLIGHT
BEGIN:STANDARD
TZOFFSETFROM:-0400
TZOFFSETTO:-0500
TZNAME:EST
DTSTART:20211107T060000
END:STANDARD
BEGIN:DAYLIGHT
TZOFFSETFROM:-0500
TZOFFSETTO:-0400
TZNAME:EDT
DTSTART:20220313T070000
END:DAYLIGHT
BEGIN:STANDARD
TZOFFSETFROM:-0400
TZOFFSETTO:-0500
TZNAME:EST
DTSTART:20221106T060000
END:STANDARD
END:VTIMEZONE
BEGIN:VEVENT
DTSTART;TZID=America/New_York:20211112T140000
DTEND;TZID=America/New_York:20211112T150000
DTSTAMP:20260423T141505
CREATED:20210106T165222Z
LAST-MODIFIED:20210106T170419Z
UID:28092-1636725600-1636729200@studymanuals.naifa-florida.org
SUMMARY:NAIFA Chapter Services - Membership Chairs Meeting
DESCRIPTION:Membership Chair Meetings are held on the second Friday of every month. Please note that all State and Local Membership Chairs have been registered through the rest of the year. Please check your email for the Zoom login details.  \n If you are not a Membership Chair\, and are interested in attending\, please email leadership@naifa.org.
URL:https://studymanuals.naifa-florida.org/event/naifa-chapter-services-chapter-leaders-meeting-8/
LOCATION:ZOOM
CATEGORIES:Conference Call,Membership,Monthly Leader Webinar,Virtual
ORGANIZER;CN="NAIFA":MAILTO:info@naifa.org
END:VEVENT
BEGIN:VEVENT
DTSTART;TZID=America/New_York:20211112T140000
DTEND;TZID=America/New_York:20211112T150000
DTSTAMP:20260423T141505
CREATED:20210830T134816Z
LAST-MODIFIED:20211026T173835Z
UID:31338-1636725600-1636729200@studymanuals.naifa-florida.org
SUMMARY:Exploring Money Mountaineering
DESCRIPTION:Harlan Accola\, CRMP\nFairway Independent Mortgage Company\nNational Reverse Mortgage Director\nPeter Neuwirth\nActuarial Consultant/Author\nNovember 12th\n2 PM Eastern\n\nHarlan Accola\, CRMP\, CSA will be joined by Peter Neuwirth\, FSA as they discuss the principles of Holistic Financial Wellness. People need a framework to make good financial decisions about their future\, as well as support to psychologically handle the changing landscape. That’s what “Money Mountaineering” and Peter Neuwirth’s six foundational principles of Holistic Financial Wellness can provide. \n\n\n \n\n  \n  \nThe webinar is brought to you by
URL:https://studymanuals.naifa-florida.org/event/the-four-approaches-to-managing-retirement-income-risk/
LOCATION:ZOOM
CATEGORIES:Business Performance Center,Training Event
ORGANIZER;CN="NAIFA":MAILTO:info@naifa.org
END:VEVENT
END:VCALENDAR