BEGIN:VCALENDAR
VERSION:2.0
PRODID:-//NAIFA-Florida - ECPv6.15.16//NONSGML v1.0//EN
CALSCALE:GREGORIAN
METHOD:PUBLISH
X-ORIGINAL-URL:https://studymanuals.naifa-florida.org
X-WR-CALDESC:Events for NAIFA-Florida
REFRESH-INTERVAL;VALUE=DURATION:PT1H
X-Robots-Tag:noindex
X-PUBLISHED-TTL:PT1H
BEGIN:VTIMEZONE
TZID:America/New_York
BEGIN:DAYLIGHT
TZOFFSETFROM:-0500
TZOFFSETTO:-0400
TZNAME:EDT
DTSTART:20200308T070000
END:DAYLIGHT
BEGIN:STANDARD
TZOFFSETFROM:-0400
TZOFFSETTO:-0500
TZNAME:EST
DTSTART:20201101T060000
END:STANDARD
BEGIN:DAYLIGHT
TZOFFSETFROM:-0500
TZOFFSETTO:-0400
TZNAME:EDT
DTSTART:20210314T070000
END:DAYLIGHT
BEGIN:STANDARD
TZOFFSETFROM:-0400
TZOFFSETTO:-0500
TZNAME:EST
DTSTART:20211107T060000
END:STANDARD
BEGIN:DAYLIGHT
TZOFFSETFROM:-0500
TZOFFSETTO:-0400
TZNAME:EDT
DTSTART:20220313T070000
END:DAYLIGHT
BEGIN:STANDARD
TZOFFSETFROM:-0400
TZOFFSETTO:-0500
TZNAME:EST
DTSTART:20221106T060000
END:STANDARD
END:VTIMEZONE
BEGIN:VEVENT
DTSTART;TZID=America/New_York:20211101T120000
DTEND;TZID=America/New_York:20211105T130000
DTSTAMP:20260423T005537
CREATED:20211026T173241Z
LAST-MODIFIED:20211026T173241Z
UID:32019-1635768000-1636117200@studymanuals.naifa-florida.org
SUMMARY:2021 Impact Week
DESCRIPTION:November 1st – 5th\,\n12 – 1 PM Eastern\, Daily\n\nOver five days\, thought leaders in the long-term care industry will provide important information on what you need to know to advance your practice and provide the best services for your clients.  Each day\, Impact Week will focus on topics ranging from new products\, advocacy\, leadership perspectives\, technology\, and providing solutions. \n\n \n  \n  \nThis event is brought to you by
URL:https://studymanuals.naifa-florida.org/event/2021-impact-week/
LOCATION:ZOOM
CATEGORIES:Limited & Extended Care Planning Center,Virtual
ORGANIZER;CN="NAIFA":MAILTO:info@naifa.org
END:VEVENT
BEGIN:VEVENT
DTSTART;TZID=America/New_York:20211104T120000
DTEND;TZID=America/New_York:20211104T130000
DTSTAMP:20260423T005537
CREATED:20211026T184153Z
LAST-MODIFIED:20211026T184329Z
UID:32035-1636027200-1636030800@studymanuals.naifa-florida.org
SUMMARY:Advisor Ambassador Program
DESCRIPTION:November 4th & 18th\n12 pm eastern\nInvite a non-member to join this month’s Advisor Ambassador Program. This free\, award-winning advisor-development program allows non-members to learn from the best while sampling professional benefits that come with NAIFA membership. \nHelp others experience NAIFA by inviting them to attend the Advisor Ambassador program. \nSpeakers for November sessions include: \nNovember 4th: TBD\nNovember 18th: Gian Panetta\, California \n 
URL:https://studymanuals.naifa-florida.org/event/advisor-ambassador-program-14/
LOCATION:ZOOM
CATEGORIES:Advisor Ambassador Program,Open to Members & Non-Members,Virtual
ORGANIZER;CN="NAIFA":MAILTO:info@naifa.org
END:VEVENT
END:VCALENDAR