BEGIN:VCALENDAR
VERSION:2.0
PRODID:-//NAIFA-Florida - ECPv6.15.16//NONSGML v1.0//EN
CALSCALE:GREGORIAN
METHOD:PUBLISH
X-WR-CALNAME:NAIFA-Florida
X-ORIGINAL-URL:https://studymanuals.naifa-florida.org
X-WR-CALDESC:Events for NAIFA-Florida
REFRESH-INTERVAL;VALUE=DURATION:PT1H
X-Robots-Tag:noindex
X-PUBLISHED-TTL:PT1H
BEGIN:VTIMEZONE
TZID:America/New_York
BEGIN:DAYLIGHT
TZOFFSETFROM:-0500
TZOFFSETTO:-0400
TZNAME:EDT
DTSTART:20200308T070000
END:DAYLIGHT
BEGIN:STANDARD
TZOFFSETFROM:-0400
TZOFFSETTO:-0500
TZNAME:EST
DTSTART:20201101T060000
END:STANDARD
BEGIN:DAYLIGHT
TZOFFSETFROM:-0500
TZOFFSETTO:-0400
TZNAME:EDT
DTSTART:20210314T070000
END:DAYLIGHT
BEGIN:STANDARD
TZOFFSETFROM:-0400
TZOFFSETTO:-0500
TZNAME:EST
DTSTART:20211107T060000
END:STANDARD
BEGIN:DAYLIGHT
TZOFFSETFROM:-0500
TZOFFSETTO:-0400
TZNAME:EDT
DTSTART:20220313T070000
END:DAYLIGHT
BEGIN:STANDARD
TZOFFSETFROM:-0400
TZOFFSETTO:-0500
TZNAME:EST
DTSTART:20221106T060000
END:STANDARD
END:VTIMEZONE
BEGIN:VEVENT
DTSTART;TZID=America/New_York:20211026T140000
DTEND;TZID=America/New_York:20211026T150000
DTSTAMP:20260423T021933
CREATED:20210916T174828Z
LAST-MODIFIED:20210916T174828Z
UID:31558-1635256800-1635260400@studymanuals.naifa-florida.org
SUMMARY:Q4 State of NAIFA
DESCRIPTION:Tuesday\, October 26th\n2 pm eastern\n\nJoin us for our Q4 “State of NAIFA” of 2021 webinar featuring: \n\nTom Michel\, NAIFA President\nKevin Mayeux\, NAIFA CEO\nDiane Boyle\, SVP of Government Relations
URL:https://studymanuals.naifa-florida.org/event/q4-state-of-naifa-2/
LOCATION:ZOOM
CATEGORIES:Members Only,Virtual
ORGANIZER;CN="NAIFA":MAILTO:info@naifa.org
END:VEVENT
BEGIN:VEVENT
DTSTART;TZID=America/New_York:20211026T180000
DTEND;TZID=America/New_York:20211026T200000
DTSTAMP:20260423T021933
CREATED:20211019T134103Z
LAST-MODIFIED:20211019T134103Z
UID:31946-1635271200-1635278400@studymanuals.naifa-florida.org
SUMMARY:NAIFA/CF IFAPAC Event
DESCRIPTION:Join members of NAIFA-CF for the IFAPAC Event on Tuesday\, October 26\, 2021 from 6-8 pm at Hannibal’s On The Square\, 511 W. New England Street\, Winter Park\, FL. \nWe will be meeting with two of our local FL legislators as they talk about how they are working for our industry. \nFrom 6-7 pm we will have Senator Randolph Bracy of District 11\, which is parts of Orange County. \n \nSenator Randolph Bracy (D) \nThen Kevin Mayeaux\, NAIFA CEO\, will speak about the State Of NAIFA. \n \nKevin Mayeaux\, NAIFA CEO \nAnd we will end the evening from 7-8 pm with Senator Fred Hawkins\, District 42 which is parts of Osceola and Polk Counties. \n \nSenator Fred Hawkins (R) \nAlthough there is no charge to attend\, please register so we will have an idea of how many attendees we will have.
URL:https://studymanuals.naifa-florida.org/event/naifa-cf-ifapac-event/
LOCATION:Hannibal’s On The Square\, 511 W New England Ave\, Winter Park\, FL\, 32789
CATEGORIES:IFAPAC,Members Only,PAC Event
ORGANIZER;CN="NAIFA-Central Florida":MAILTO:paula@naifacf.org
END:VEVENT
END:VCALENDAR