BEGIN:VCALENDAR
VERSION:2.0
PRODID:-//NAIFA-Florida - ECPv6.15.16//NONSGML v1.0//EN
CALSCALE:GREGORIAN
METHOD:PUBLISH
X-ORIGINAL-URL:https://studymanuals.naifa-florida.org
X-WR-CALDESC:Events for NAIFA-Florida
REFRESH-INTERVAL;VALUE=DURATION:PT1H
X-Robots-Tag:noindex
X-PUBLISHED-TTL:PT1H
BEGIN:VTIMEZONE
TZID:America/New_York
BEGIN:DAYLIGHT
TZOFFSETFROM:-0500
TZOFFSETTO:-0400
TZNAME:EDT
DTSTART:20200308T070000
END:DAYLIGHT
BEGIN:STANDARD
TZOFFSETFROM:-0400
TZOFFSETTO:-0500
TZNAME:EST
DTSTART:20201101T060000
END:STANDARD
BEGIN:DAYLIGHT
TZOFFSETFROM:-0500
TZOFFSETTO:-0400
TZNAME:EDT
DTSTART:20210314T070000
END:DAYLIGHT
BEGIN:STANDARD
TZOFFSETFROM:-0400
TZOFFSETTO:-0500
TZNAME:EST
DTSTART:20211107T060000
END:STANDARD
BEGIN:DAYLIGHT
TZOFFSETFROM:-0500
TZOFFSETTO:-0400
TZNAME:EDT
DTSTART:20220313T070000
END:DAYLIGHT
BEGIN:STANDARD
TZOFFSETFROM:-0400
TZOFFSETTO:-0500
TZNAME:EST
DTSTART:20221106T060000
END:STANDARD
END:VTIMEZONE
BEGIN:VEVENT
DTSTART;TZID=America/New_York:20211021T113000
DTEND;TZID=America/New_York:20211021T130000
DTSTAMP:20260422T112809
CREATED:20210907T132806Z
LAST-MODIFIED:20210927T183440Z
UID:31440-1634815800-1634821200@studymanuals.naifa-florida.org
SUMMARY:Legislative Updates with NAIFA Florida Lobbyist
DESCRIPTION:  \n \n  \nCHAPTER MEETING\nRSVP NOW TO SAVE YOUR SEAT\nOctober 21\, 2021\n11:30 AM-1:00 PM EASTERN \nLOCATION:                                                                   COST:\nBonefish Grill                                                                     $25 Members\n10950 San Jose Boulevard Jacksonville\, FL  32223          $30 Non Member \nLEGISLATIVE UDPATES\nNAIFA Florida Lobbyist\nTime Meenan
URL:https://studymanuals.naifa-florida.org/event/legislative-updates-with-naifa-florida-lobbyist/
CATEGORIES:Chapter Event,In Person Event,Legislative Event
ORGANIZER;CN="NAIFA-Northeast Florida":MAILTO:info@naifa-jacksonville.org
END:VEVENT
END:VCALENDAR