BEGIN:VCALENDAR
VERSION:2.0
PRODID:-//NAIFA-Florida - ECPv6.15.16//NONSGML v1.0//EN
CALSCALE:GREGORIAN
METHOD:PUBLISH
X-ORIGINAL-URL:https://studymanuals.naifa-florida.org
X-WR-CALDESC:Events for NAIFA-Florida
REFRESH-INTERVAL;VALUE=DURATION:PT1H
X-Robots-Tag:noindex
X-PUBLISHED-TTL:PT1H
BEGIN:VTIMEZONE
TZID:America/New_York
BEGIN:DAYLIGHT
TZOFFSETFROM:-0500
TZOFFSETTO:-0400
TZNAME:EDT
DTSTART:20200308T070000
END:DAYLIGHT
BEGIN:STANDARD
TZOFFSETFROM:-0400
TZOFFSETTO:-0500
TZNAME:EST
DTSTART:20201101T060000
END:STANDARD
BEGIN:DAYLIGHT
TZOFFSETFROM:-0500
TZOFFSETTO:-0400
TZNAME:EDT
DTSTART:20210314T070000
END:DAYLIGHT
BEGIN:STANDARD
TZOFFSETFROM:-0400
TZOFFSETTO:-0500
TZNAME:EST
DTSTART:20211107T060000
END:STANDARD
BEGIN:DAYLIGHT
TZOFFSETFROM:-0500
TZOFFSETTO:-0400
TZNAME:EDT
DTSTART:20220313T070000
END:DAYLIGHT
BEGIN:STANDARD
TZOFFSETFROM:-0400
TZOFFSETTO:-0500
TZNAME:EST
DTSTART:20221106T060000
END:STANDARD
END:VTIMEZONE
BEGIN:VEVENT
DTSTART;TZID=America/New_York:20211020T090000
DTEND;TZID=America/New_York:20211020T143000
DTSTAMP:20260422T165211
CREATED:20210928T155213Z
LAST-MODIFIED:20210928T155459Z
UID:31683-1634720400-1634740200@studymanuals.naifa-florida.org
SUMMARY:2021 Law & Ethics Update for L&H Advisors -- WEBINAR - 5 HRS CE
DESCRIPTION:Wednesday\, October 20\, 2021\n9:00 a.m. – 2:30 p.m. ET  (includes a 30-minute break from 12:00 to 12:30) \n\n \nInstructor:\nDonald A. Brown \n  \nCOURSE INFORMATION \nThis 5-hour virtual (Zoom) course complies with the DFS requirement that all life and health insurance advisors are required to have\nfive hours of continuing education on the subject of law and ethics in each two-year compliance period. \nCourse ID: 118950 ~ Course Offering: 1149023 ~ Hours – Five (5)\nCourse Level- Intermediate ~ Course Authority – CE 5-215 Law and Ethic Update – LHV \n  \nCOST TO ATTEND \n$30 – Members\n$40 – Non-Members \n  \nREGISTRATION \nPlease note that as soon as you register\, you will receive a confirmation email with the ZOOM link for the meeting.  If you do not receive that email\, please check your spam folder.  A reminder email will be sent out on the morning of the class with the ZOOM link. \n  \n \n 
URL:https://studymanuals.naifa-florida.org/event/2021-law-ethics-update-for-lh-advisors-webinar-5-hrs-ce/
LOCATION:ZOOM
CATEGORIES:Continuing Education,New Members,Non-Members,Open to Members & Non-Members,Virtual
ORGANIZER;CN="NAIFA-Florida":MAILTO:admin@naifa-florida.org
END:VEVENT
END:VCALENDAR