BEGIN:VCALENDAR
VERSION:2.0
PRODID:-//NAIFA-Florida - ECPv6.15.16//NONSGML v1.0//EN
CALSCALE:GREGORIAN
METHOD:PUBLISH
X-ORIGINAL-URL:https://studymanuals.naifa-florida.org
X-WR-CALDESC:Events for NAIFA-Florida
REFRESH-INTERVAL;VALUE=DURATION:PT1H
X-Robots-Tag:noindex
X-PUBLISHED-TTL:PT1H
BEGIN:VTIMEZONE
TZID:America/New_York
BEGIN:DAYLIGHT
TZOFFSETFROM:-0500
TZOFFSETTO:-0400
TZNAME:EDT
DTSTART:20200308T070000
END:DAYLIGHT
BEGIN:STANDARD
TZOFFSETFROM:-0400
TZOFFSETTO:-0500
TZNAME:EST
DTSTART:20201101T060000
END:STANDARD
BEGIN:DAYLIGHT
TZOFFSETFROM:-0500
TZOFFSETTO:-0400
TZNAME:EDT
DTSTART:20210314T070000
END:DAYLIGHT
BEGIN:STANDARD
TZOFFSETFROM:-0400
TZOFFSETTO:-0500
TZNAME:EST
DTSTART:20211107T060000
END:STANDARD
BEGIN:DAYLIGHT
TZOFFSETFROM:-0500
TZOFFSETTO:-0400
TZNAME:EDT
DTSTART:20220313T070000
END:DAYLIGHT
BEGIN:STANDARD
TZOFFSETFROM:-0400
TZOFFSETTO:-0500
TZNAME:EST
DTSTART:20221106T060000
END:STANDARD
END:VTIMEZONE
BEGIN:VEVENT
DTSTART;TZID=America/New_York:20211013T120000
DTEND;TZID=America/New_York:20211013T170000
DTSTAMP:20260422T140451
CREATED:20210916T174323Z
LAST-MODIFIED:20210916T174323Z
UID:31555-1634126400-1634144400@studymanuals.naifa-florida.org
SUMMARY:NAAIA National Virtual Conference
DESCRIPTION:  \n  \nProud NAIFA Advocacy Partner\nOctober 13th\n12-5 pm eastern\n\nJoin NAIFA’s Advocacy Partner\, the National African-American Insurance Association (NAAIA) for their 2021 virtual conference.
URL:https://studymanuals.naifa-florida.org/event/naaia-national-virtual-conference/
LOCATION:ZOOM
CATEGORIES:Conference,NAIFA Partner,Virtual
END:VEVENT
BEGIN:VEVENT
DTSTART;TZID=America/New_York:20211013T140000
DTEND;TZID=America/New_York:20211013T150000
DTSTAMP:20260422T140451
CREATED:20210106T194517Z
LAST-MODIFIED:20210107T185559Z
UID:28140-1634133600-1634137200@studymanuals.naifa-florida.org
SUMMARY:Members Only: NAIFA Live
DESCRIPTION:  \n  \n  \n  \n  \n  \nCalling all NAIFA members! Each month we gather together and hear from a great speaker in our industry as one nation\, one NAIFA. \nCheck out our NAIFA Live page and mark your calendars for the next meeting.
URL:https://studymanuals.naifa-florida.org/event/members-only-naifa-live-4/
LOCATION:ZOOM
CATEGORIES:Members Only,NAIFA Live,Virtual
ORGANIZER;CN="NAIFA":MAILTO:info@naifa.org
END:VEVENT
BEGIN:VEVENT
DTSTART;TZID=America/New_York:20211013T170000
DTEND;TZID=America/New_York:20211013T190000
DTSTAMP:20260422T140451
CREATED:20210907T132252Z
LAST-MODIFIED:20210927T182235Z
UID:31436-1634144400-1634151600@studymanuals.naifa-florida.org
SUMMARY:Northeast Florida YAT Social and Mixer
DESCRIPTION:  \n \n  \nYAT NETWORKING & SOCIAL EVENT\nOctober 13\, 2021\nLynch’s Irish Pub\n514 1st Street North\nJacksonville Beach \nFree with RSVP \nSponsored by \nAlicia Longo – APPS Para Medical Services \nChris Patrick – State Farm \nPrice Wheeler – The Bailey Group \nRachel Dubois – New York Life \nChayne Riggs – New York Life \nClick here to register! \n \n 
URL:https://studymanuals.naifa-florida.org/event/31436/
LOCATION:Lynch’s Irish Pub\, 514 1st Street North\, Jacksonville Beach\, FL
CATEGORIES:Chapter Event,In Person Event,Membership,Mixer,Networking,New Members,Non-Members,Open to Members & Non-Members,YAT
ORGANIZER;CN="NAIFA-Northeast Florida":MAILTO:info@naifa-jacksonville.org
END:VEVENT
END:VCALENDAR