BEGIN:VCALENDAR
VERSION:2.0
PRODID:-//NAIFA-Florida - ECPv6.15.16//NONSGML v1.0//EN
CALSCALE:GREGORIAN
METHOD:PUBLISH
X-ORIGINAL-URL:https://studymanuals.naifa-florida.org
X-WR-CALDESC:Events for NAIFA-Florida
REFRESH-INTERVAL;VALUE=DURATION:PT1H
X-Robots-Tag:noindex
X-PUBLISHED-TTL:PT1H
BEGIN:VTIMEZONE
TZID:America/New_York
BEGIN:DAYLIGHT
TZOFFSETFROM:-0500
TZOFFSETTO:-0400
TZNAME:EDT
DTSTART:20200308T070000
END:DAYLIGHT
BEGIN:STANDARD
TZOFFSETFROM:-0400
TZOFFSETTO:-0500
TZNAME:EST
DTSTART:20201101T060000
END:STANDARD
BEGIN:DAYLIGHT
TZOFFSETFROM:-0500
TZOFFSETTO:-0400
TZNAME:EDT
DTSTART:20210314T070000
END:DAYLIGHT
BEGIN:STANDARD
TZOFFSETFROM:-0400
TZOFFSETTO:-0500
TZNAME:EST
DTSTART:20211107T060000
END:STANDARD
BEGIN:DAYLIGHT
TZOFFSETFROM:-0500
TZOFFSETTO:-0400
TZNAME:EDT
DTSTART:20220313T070000
END:DAYLIGHT
BEGIN:STANDARD
TZOFFSETFROM:-0400
TZOFFSETTO:-0500
TZNAME:EST
DTSTART:20221106T060000
END:STANDARD
END:VTIMEZONE
BEGIN:VEVENT
DTSTART;TZID=America/New_York:20210928T093000
DTEND;TZID=America/New_York:20210928T150000
DTSTAMP:20260423T005624
CREATED:20210907T184856Z
LAST-MODIFIED:20210907T184856Z
UID:31451-1632821400-1632841200@studymanuals.naifa-florida.org
SUMMARY:2021 Law and Ethics Update for the P&C Advisor -- Webinar
DESCRIPTION:Tuesday\, Sept. 28\, 2021 \n9:30 a.m. – 3:00 p.m. ET  (includes a 30-minute break from 12:30 to 1:00)\n  \n \nInstructor:\nJames “Skip” Boylan \n  \nCOURSE INFORMATION \nThis 5-hour virtual (Zoom) course complies with the DFS requirement that licensed general lines (property/ casualty) advisors are required to have five hours of continuing education on new Florida law and ethics of continuing education during each two-year compliance period. \nCourse ID: 118365 ~ Course Offering: 1148018 ~ Hours – Five (5)\nCourse Level- Intermediate ~ Course Authority – CE 5-220 Law and Ethic Update \nNOTE: This course is the general lines (property-casualty) version of the 5-hour Law and Ethics — for property-casualty licensees. If you are life or health licensed only\, you will not receive CE credit for this class. If you are dual-licensed (both L&H and general lines)\, you will receive credit for this class. \n  \nCOST TO ATTEND \n$30 – Members\n$40 – Non-Members \n  \nREGISTRATION \nhttps://naifacf.wufoo.com/forms/z1ebhg8p13yzmhm/
URL:https://studymanuals.naifa-florida.org/event/2021-law-and-ethics-update-for-the-pc-advisor-webinar/
LOCATION:ZOOM
CATEGORIES:Continuing Education,New Members,Non-Members,Open to Members & Non-Members,P&C,Professional Development,Virtual
ORGANIZER;CN="NAIFA":MAILTO:info@naifa.org
END:VEVENT
END:VCALENDAR