BEGIN:VCALENDAR
VERSION:2.0
PRODID:-//NAIFA-Florida - ECPv6.15.16//NONSGML v1.0//EN
CALSCALE:GREGORIAN
METHOD:PUBLISH
X-WR-CALNAME:NAIFA-Florida
X-ORIGINAL-URL:https://studymanuals.naifa-florida.org
X-WR-CALDESC:Events for NAIFA-Florida
REFRESH-INTERVAL;VALUE=DURATION:PT1H
X-Robots-Tag:noindex
X-PUBLISHED-TTL:PT1H
BEGIN:VTIMEZONE
TZID:America/New_York
BEGIN:DAYLIGHT
TZOFFSETFROM:-0500
TZOFFSETTO:-0400
TZNAME:EDT
DTSTART:20200308T070000
END:DAYLIGHT
BEGIN:STANDARD
TZOFFSETFROM:-0400
TZOFFSETTO:-0500
TZNAME:EST
DTSTART:20201101T060000
END:STANDARD
BEGIN:DAYLIGHT
TZOFFSETFROM:-0500
TZOFFSETTO:-0400
TZNAME:EDT
DTSTART:20210314T070000
END:DAYLIGHT
BEGIN:STANDARD
TZOFFSETFROM:-0400
TZOFFSETTO:-0500
TZNAME:EST
DTSTART:20211107T060000
END:STANDARD
BEGIN:DAYLIGHT
TZOFFSETFROM:-0500
TZOFFSETTO:-0400
TZNAME:EDT
DTSTART:20220313T070000
END:DAYLIGHT
BEGIN:STANDARD
TZOFFSETFROM:-0400
TZOFFSETTO:-0500
TZNAME:EST
DTSTART:20221106T060000
END:STANDARD
END:VTIMEZONE
BEGIN:VEVENT
DTSTART;TZID=America/New_York:20210923T113000
DTEND;TZID=America/New_York:20210923T130000
DTSTAMP:20260423T052443
CREATED:20210922T125120Z
LAST-MODIFIED:20210922T125140Z
UID:31605-1632396600-1632402000@studymanuals.naifa-florida.org
SUMMARY:Current Issues For Estate Planning: A Potpourri of Important Information For Your Clients
DESCRIPTION:NOTE: WE ARE MEETING AT DUBSDREAD AGAIN!!!\nNAIFA Central Florida Monthly Meeting \nJoin members of NAIFA-CF and other Central Florida industry professionals for the September 2021 luncheon back at Dubsdread\, 549 W. Par Street\, Orlando\, FL.\nMEETING INFORMATION\nTopic: Current Issues For Estate Planning: A Potpourri of Important Information For Your Clients\n11:30 am – 1:00 pm on Thursday\, September 23\, 2021\nDubsdread Conference Center\n549 W. Par Street\, Orlando\, FL \nSPEAKER \n\nCHARLES D. “CHUCK” WILDER\, Esq.\nEstate Planning and Legacy Law Center\, PLC \nCharles D. “Chuck” Wilder specializes in the personal planning areas of the law\, including estate and legacy planning; asset protection planning; wills\, trusts\, and estates; trust administration\, probate\, and trust settlement; guardianship planning and special needs trusts; family limited partnerships; corporate succession and business planning; IRA legacy trust planning\, and elder law. \nChuck earned a Bachelor of Science degree from the University of South Florida in 1970. After working for Southern Bell for a number of years\, Chuck attended the Nova Southeastern University Center for the Study of Law (now known as the Nova Southeastern University Shepard Broad College of Law)\, earning his Juris Doctor degree (cum laude) in 1980. Chuck then continued his education at the University of Florida\, earning his Master of Laws in Taxation (LL.M.) in 1981. \nChuck and his wife\, Karen\, a Critical Care Nurse originally from Jamaica\, live in Altamonte Springs\, Florida. Outside of work\, Chuck is an avid Orlando Magic basketball fan\, attending as many home games as possible. He also enjoys traveling\, photography\, and honing his computer skills. \nFor more information about Chuck and to see information about his new location at 711 Ballard Street\, Altamonte Springs\, FL\, go to https://www.epllc-plc.com/ \nCost:\nMember of NAIFA  In Person  $20.00\nNon-Members In-Person $25.00\nMember of NAIFA Via ZOOM $10.00\nNon-Members Via ZOOM $15.00\nInvited and First-Time Guests – FREE\n                                                                     \n \nNOTE:  Immediately after registering you will receive a confirmation email.  If you do not receive that\, please check your spam folder.  The ZOOM link is included in that email\, if you registered to attend via ZOOM.
URL:https://studymanuals.naifa-florida.org/event/current-issues-for-estate-planning-a-potpourri-of-important-information-for-your-clients/
LOCATION:Dubsdread Golf Course\, 549 W Par Street\, Orlando\, FL\, 32804
CATEGORIES:Chapter Event,In Person Event,Membership,Networking,New Members,Non-Members,Open to Members & Non-Members
END:VEVENT
BEGIN:VEVENT
DTSTART;TZID=America/New_York:20210923T130000
DTEND;TZID=America/New_York:20210923T170000
DTSTAMP:20260423T052443
CREATED:20210630T134326Z
LAST-MODIFIED:20210630T134326Z
UID:30639-1632402000-1632416400@studymanuals.naifa-florida.org
SUMMARY:CLTC Master Class
DESCRIPTION:Bill Comfort\, CSA\, CLTC\, LTCCP\nLTC Specialist\nSeptember 15\, 16\, 22 & 23\n1-5 pm eastern \n\nJoin Bill Comfort\, CSA\, CLTC\, LTCCP for the upcoming CLTC Master Class. The Master Class provides a comprehensive classroom-based training experience designed to prepare students for the CLTC designation exam. Acquire a powerful set of planning skills to confidently craft appropriate funding solutions for your clients. \nNAIFA members are able to redeem the following discounts for the September 2021 CLTC Master Class: \n\n$850 with promo code: NAIFA921$ before September 1.\n$900 with promo code: NAIFA921 after September 1.\n\n \n\n  \nThe webinar is brought to you by\n  \n 
URL:https://studymanuals.naifa-florida.org/event/cltc-master-class-18/
LOCATION:ZOOM
CATEGORIES:Designation Training,Limited & Extended Care Planning Center,Members Only,Virtual
ORGANIZER;CN="NAIFA":MAILTO:info@naifa.org
END:VEVENT
BEGIN:VEVENT
DTSTART;TZID=America/New_York:20210923T140000
DTEND;TZID=America/New_York:20210923T150000
DTSTAMP:20260423T052443
CREATED:20210830T134131Z
LAST-MODIFIED:20210830T134131Z
UID:31335-1632405600-1632409200@studymanuals.naifa-florida.org
SUMMARY:What’s Driving Life Settlement Growth?
DESCRIPTION:  \nCarroll Golden\, CLU\, ChFC\, CLTC\, CASL\, LACP\, FLMI\nNAIFA’s Limited And Extended Care Planning Center\nExecutive Director\nAlan H. Buerger\nCoventry\nCo-Founder and Executive Chairman\nPeter Hershon\, CLU\, ChFC\nCoventry\nSr. Vice President Account Services\nPatrick Cahill\, CRPC\, RICP\nCoventry\nHead of Strategic Accounts\nThursday\, September 23rd\n2:00 pm eastern\n\nThe demand for life settlements has seen a resurgence as seniors realize the benefits of reevaluating their life insurance strategy. Join us for a Virtual Executive Roundtable where we will examine current market trends in life settlements and how you can leverage this important financial tool. \n\n \n  \n  \nThe webinar is brought to you by
URL:https://studymanuals.naifa-florida.org/event/whats-driving-life-settlement-growth/
LOCATION:ZOOM
CATEGORIES:Limited & Extended Care Planning Center,Virtual
ORGANIZER;CN="NAIFA":MAILTO:info@naifa.org
END:VEVENT
END:VCALENDAR