BEGIN:VCALENDAR
VERSION:2.0
PRODID:-//NAIFA-Florida - ECPv6.15.16//NONSGML v1.0//EN
CALSCALE:GREGORIAN
METHOD:PUBLISH
X-WR-CALNAME:NAIFA-Florida
X-ORIGINAL-URL:https://studymanuals.naifa-florida.org
X-WR-CALDESC:Events for NAIFA-Florida
REFRESH-INTERVAL;VALUE=DURATION:PT1H
X-Robots-Tag:noindex
X-PUBLISHED-TTL:PT1H
BEGIN:VTIMEZONE
TZID:America/New_York
BEGIN:DAYLIGHT
TZOFFSETFROM:-0500
TZOFFSETTO:-0400
TZNAME:EDT
DTSTART:20200308T070000
END:DAYLIGHT
BEGIN:STANDARD
TZOFFSETFROM:-0400
TZOFFSETTO:-0500
TZNAME:EST
DTSTART:20201101T060000
END:STANDARD
BEGIN:DAYLIGHT
TZOFFSETFROM:-0500
TZOFFSETTO:-0400
TZNAME:EDT
DTSTART:20210314T070000
END:DAYLIGHT
BEGIN:STANDARD
TZOFFSETFROM:-0400
TZOFFSETTO:-0500
TZNAME:EST
DTSTART:20211107T060000
END:STANDARD
BEGIN:DAYLIGHT
TZOFFSETFROM:-0500
TZOFFSETTO:-0400
TZNAME:EDT
DTSTART:20220313T070000
END:DAYLIGHT
BEGIN:STANDARD
TZOFFSETFROM:-0400
TZOFFSETTO:-0500
TZNAME:EST
DTSTART:20221106T060000
END:STANDARD
END:VTIMEZONE
BEGIN:VEVENT
DTSTART;TZID=America/New_York:20210913T140000
DTEND;TZID=America/New_York:20210917T150000
DTSTAMP:20260423T153001
CREATED:20210916T173247Z
LAST-MODIFIED:20210916T173247Z
UID:31553-1631541600-1631890800@studymanuals.naifa-florida.org
SUMMARY:Hyper-Growth in a Hybrid Environment
DESCRIPTION:Brad Swineheart\nWhite Glove\nSVP\, Channel Marketing and Business Development\n\nSeptember 13-17\, 2021\n2:00 pm eastern each day\n\nAre you ready to bring your prospecting game up to match consumer demands in a new world? Join Brad Swineheart of White Glove in this webinar series that will show you what is working now\, real results from top advisors\, and the strategies you can steal. \n \n\n\nThe webinar is brought to you by
URL:https://studymanuals.naifa-florida.org/event/hyper-growth-in-a-hybrid-environment/
LOCATION:ZOOM
CATEGORIES:Business Performance Center,Virtual
ORGANIZER;CN="NAIFA":MAILTO:info@naifa.org
END:VEVENT
END:VCALENDAR