BEGIN:VCALENDAR
VERSION:2.0
PRODID:-//NAIFA-Florida - ECPv6.15.16//NONSGML v1.0//EN
CALSCALE:GREGORIAN
METHOD:PUBLISH
X-WR-CALNAME:NAIFA-Florida
X-ORIGINAL-URL:https://studymanuals.naifa-florida.org
X-WR-CALDESC:Events for NAIFA-Florida
REFRESH-INTERVAL;VALUE=DURATION:PT1H
X-Robots-Tag:noindex
X-PUBLISHED-TTL:PT1H
BEGIN:VTIMEZONE
TZID:America/New_York
BEGIN:DAYLIGHT
TZOFFSETFROM:-0500
TZOFFSETTO:-0400
TZNAME:EDT
DTSTART:20200308T070000
END:DAYLIGHT
BEGIN:STANDARD
TZOFFSETFROM:-0400
TZOFFSETTO:-0500
TZNAME:EST
DTSTART:20201101T060000
END:STANDARD
BEGIN:DAYLIGHT
TZOFFSETFROM:-0500
TZOFFSETTO:-0400
TZNAME:EDT
DTSTART:20210314T070000
END:DAYLIGHT
BEGIN:STANDARD
TZOFFSETFROM:-0400
TZOFFSETTO:-0500
TZNAME:EST
DTSTART:20211107T060000
END:STANDARD
BEGIN:DAYLIGHT
TZOFFSETFROM:-0500
TZOFFSETTO:-0400
TZNAME:EDT
DTSTART:20220313T070000
END:DAYLIGHT
BEGIN:STANDARD
TZOFFSETFROM:-0400
TZOFFSETTO:-0500
TZNAME:EST
DTSTART:20221106T060000
END:STANDARD
END:VTIMEZONE
BEGIN:VEVENT
DTSTART;TZID=America/New_York:20210913T140000
DTEND;TZID=America/New_York:20210917T150000
DTSTAMP:20260424T031732
CREATED:20210916T173247Z
LAST-MODIFIED:20210916T173247Z
UID:31553-1631541600-1631890800@studymanuals.naifa-florida.org
SUMMARY:Hyper-Growth in a Hybrid Environment
DESCRIPTION:Brad Swineheart\nWhite Glove\nSVP\, Channel Marketing and Business Development\n\nSeptember 13-17\, 2021\n2:00 pm eastern each day\n\nAre you ready to bring your prospecting game up to match consumer demands in a new world? Join Brad Swineheart of White Glove in this webinar series that will show you what is working now\, real results from top advisors\, and the strategies you can steal. \n \n\n\nThe webinar is brought to you by
URL:https://studymanuals.naifa-florida.org/event/hyper-growth-in-a-hybrid-environment/
LOCATION:ZOOM
CATEGORIES:Business Performance Center,Virtual
ORGANIZER;CN="NAIFA":MAILTO:info@naifa.org
END:VEVENT
BEGIN:VEVENT
DTSTART;TZID=America/New_York:20210915T103000
DTEND;TZID=America/New_York:20210915T130000
DTSTAMP:20260424T031732
CREATED:20210802T183427Z
LAST-MODIFIED:20210802T183504Z
UID:31018-1631701800-1631710800@studymanuals.naifa-florida.org
SUMMARY:Now is the Greatest Time Ever to be an Insurance or Financial Professional!
DESCRIPTION:NAIFA-BROWARD WELCOMES YOU BACK LIVE WITH SPECIAL GUEST \nVan Mueller\, LUTCF\, LACP\n \n“Now is the Greatest Time Ever to be\nan Insurance or Financial Professional!”\n HYBRID MEETING! LIVE IN-PERSON OR VIRTUAL VIA ZOOM!\nOPEN TO ALL FLORIDA MEMBERS\n \n Wednesday\, September 15th\, 2021 \n 10:30 AM – 1:00 PM at The Fort Lauderdale Country Club \n415 E. Country Club Circle\, Plantation\, FL 33317 (MAP) \nNAIFA-Broward welcomes you to our first live meeting of the year featuring World-Class speaker Van Mueller! This event will: \n\ndramatically increase your sales appointments\,\nbuild greater success in those appointments\, and\nprovide solutions that prospects and clients haven’t even begun to think about.\n\nThis presentation will include fresh material to dramatically supercharge your practice for the post-pandemic era. You don’t want to miss this event! \nJanuary 23\, 2021 marks Van Mueller’s 48th year as an insurance agent. He is an active member of MDRT having qualified for Court of the Table in 1990 and Top of The Table for the last 31 years. Click HERE for more about Van. \n  \nADVANCE REGISTRATION IS REQUIRED! \nREGISTRATION DUE BY WEDNESDAY\, SEPTEMBER 8\, 2021! \nNAIFA Member attending via Zoom: $25.00 \nNon-Member attending via Zoom: $40.00 \nNAIFA Member attending In-Person: $35.00 (lunch included) \nNon-Member attending In-Person: $50.00 (lunch included) \nLate registration after September 8th\, add $10.00. \n \nCLICK HERE TO REGISTER ONLINE! \nZoom link will be sent to registrants opting for virtual meeting to the\nemail address provided before the meeting. \n  \nFor more information\, please contact NAIFA-Broward Association Executive Rhonda Milrot at (954) 753-2262 or admin@naifa-broward.org.
URL:https://studymanuals.naifa-florida.org/event/now-is-the-greatest-time-ever-to-be-an-insurance-or-financial-professional/
LOCATION:Fort Lauderdale Country Club\, 415 E. Country Club Circle\, Plantation\, FL\, 33317
CATEGORIES:Chapter Event,In Person Event,New Members,Non-Members,Open to Members & Non-Members,Virtual
ORGANIZER;CN="NAIFA-Broward":MAILTO:admin@naifa-broward.org
END:VEVENT
BEGIN:VEVENT
DTSTART;TZID=America/New_York:20210915T130000
DTEND;TZID=America/New_York:20210915T170000
DTSTAMP:20260424T031732
CREATED:20210630T132634Z
LAST-MODIFIED:20210630T132634Z
UID:30634-1631710800-1631725200@studymanuals.naifa-florida.org
SUMMARY:CLTC Master Class
DESCRIPTION:Bill Comfort\, CSA\, CLTC\, LTCCP\nLTC Specialist\nSeptember 15\, 16\, 22 & 23\n1-5 pm eastern \n\nJoin Bill Comfort\, CSA\, CLTC\, LTCCP for the upcoming CLTC Master Class. The Master Class provides a comprehensive classroom-based training experience designed to prepare students for the CLTC designation exam. Acquire a powerful set of planning skills to confidently craft appropriate funding solutions for your clients. \nNAIFA members are able to redeem the following discounts for the September 2021 CLTC Master Class: \n\n$850 with promo code: NAIFA921$ before September 1.\n$900 with promo code: NAIFA921 after September 1.\n\n \n\n  \nThe webinar is brought to you by\n  \n 
URL:https://studymanuals.naifa-florida.org/event/cltc-master-class-17/
LOCATION:ZOOM
CATEGORIES:Designation Training,Limited & Extended Care Planning Center,Members Only,Virtual
ORGANIZER;CN="NAIFA":MAILTO:info@naifa.org
END:VEVENT
END:VCALENDAR