BEGIN:VCALENDAR
VERSION:2.0
PRODID:-//NAIFA-Florida - ECPv6.15.16//NONSGML v1.0//EN
CALSCALE:GREGORIAN
METHOD:PUBLISH
X-ORIGINAL-URL:https://studymanuals.naifa-florida.org
X-WR-CALDESC:Events for NAIFA-Florida
REFRESH-INTERVAL;VALUE=DURATION:PT1H
X-Robots-Tag:noindex
X-PUBLISHED-TTL:PT1H
BEGIN:VTIMEZONE
TZID:America/New_York
BEGIN:DAYLIGHT
TZOFFSETFROM:-0500
TZOFFSETTO:-0400
TZNAME:EDT
DTSTART:20200308T070000
END:DAYLIGHT
BEGIN:STANDARD
TZOFFSETFROM:-0400
TZOFFSETTO:-0500
TZNAME:EST
DTSTART:20201101T060000
END:STANDARD
BEGIN:DAYLIGHT
TZOFFSETFROM:-0500
TZOFFSETTO:-0400
TZNAME:EDT
DTSTART:20210314T070000
END:DAYLIGHT
BEGIN:STANDARD
TZOFFSETFROM:-0400
TZOFFSETTO:-0500
TZNAME:EST
DTSTART:20211107T060000
END:STANDARD
BEGIN:DAYLIGHT
TZOFFSETFROM:-0500
TZOFFSETTO:-0400
TZNAME:EDT
DTSTART:20220313T070000
END:DAYLIGHT
BEGIN:STANDARD
TZOFFSETFROM:-0400
TZOFFSETTO:-0500
TZNAME:EST
DTSTART:20221106T060000
END:STANDARD
END:VTIMEZONE
BEGIN:VEVENT
DTSTART;TZID=America/New_York:20210812T130000
DTEND;TZID=America/New_York:20210812T140000
DTSTAMP:20260426T002036
CREATED:20210728T132053Z
LAST-MODIFIED:20210728T132053Z
UID:30961-1628773200-1628776800@studymanuals.naifa-florida.org
SUMMARY:Advisor Ambassador
DESCRIPTION:August 12th & 26th | 1 pm eastern \n  \nAll non-member ar invited to join August’s Advisor Ambassador Program. This free\, award-winning advisor-development program allows non-members to learn from the best while sampling professional benefits that come with NAIFA membership. \n  \nJoin us and experience NAIFA by attending the Advisor Ambassador program. \n  \nSpeakers for the August Advisor Ambassador sessions include: \n\nAugust 12th: Derek Scheetz\, NAIFA-Ohio\nAugust 26th: Jose Rodriguez\, NAIFA-California
URL:https://studymanuals.naifa-florida.org/event/advisor-ambassador/
LOCATION:ZOOM
CATEGORIES:Advisor Ambassador Program,Membership,New Members,Non-Members,Open to Members & Non-Members
ORGANIZER;CN="NAIFA":MAILTO:info@naifa.org
END:VEVENT
BEGIN:VEVENT
DTSTART;TZID=America/New_York:20210812T153000
DTEND;TZID=America/New_York:20210812T163000
DTSTAMP:20260426T002036
CREATED:20210106T170306Z
LAST-MODIFIED:20210608T184618Z
UID:28091-1628782200-1628785800@studymanuals.naifa-florida.org
SUMMARY:NAIFA Chapter Services - Membership Chairs Meeting
DESCRIPTION:Please note that all State and Local Membership Chairs have been registered through the rest of the year. Please check your email for the Zoom login details.  \n If you are not a Membership Chair\, and are interested in attending\, please email leadership@naifa.org.
URL:https://studymanuals.naifa-florida.org/event/naifa-chapter-services-membership-chairs-meeting-2/
LOCATION:ZOOM
CATEGORIES:Conference Call,Membership,Monthly Leader Webinar,Virtual
ORGANIZER;CN="NAIFA":MAILTO:info@naifa.org
END:VEVENT
END:VCALENDAR