BEGIN:VCALENDAR
VERSION:2.0
PRODID:-//NAIFA-Florida - ECPv6.15.16//NONSGML v1.0//EN
CALSCALE:GREGORIAN
METHOD:PUBLISH
X-ORIGINAL-URL:https://studymanuals.naifa-florida.org
X-WR-CALDESC:Events for NAIFA-Florida
REFRESH-INTERVAL;VALUE=DURATION:PT1H
X-Robots-Tag:noindex
X-PUBLISHED-TTL:PT1H
BEGIN:VTIMEZONE
TZID:America/New_York
BEGIN:DAYLIGHT
TZOFFSETFROM:-0500
TZOFFSETTO:-0400
TZNAME:EDT
DTSTART:20200308T070000
END:DAYLIGHT
BEGIN:STANDARD
TZOFFSETFROM:-0400
TZOFFSETTO:-0500
TZNAME:EST
DTSTART:20201101T060000
END:STANDARD
BEGIN:DAYLIGHT
TZOFFSETFROM:-0500
TZOFFSETTO:-0400
TZNAME:EDT
DTSTART:20210314T070000
END:DAYLIGHT
BEGIN:STANDARD
TZOFFSETFROM:-0400
TZOFFSETTO:-0500
TZNAME:EST
DTSTART:20211107T060000
END:STANDARD
BEGIN:DAYLIGHT
TZOFFSETFROM:-0500
TZOFFSETTO:-0400
TZNAME:EDT
DTSTART:20220313T070000
END:DAYLIGHT
BEGIN:STANDARD
TZOFFSETFROM:-0400
TZOFFSETTO:-0500
TZNAME:EST
DTSTART:20221106T060000
END:STANDARD
END:VTIMEZONE
BEGIN:VEVENT
DTSTART;TZID=America/New_York:20210720T140000
DTEND;TZID=America/New_York:20210720T150000
DTSTAMP:20260424T201828
CREATED:20210630T125452Z
LAST-MODIFIED:20210630T125523Z
UID:30627-1626789600-1626793200@studymanuals.naifa-florida.org
SUMMARY:Q3 State of NAIFA 2021 Webinar
DESCRIPTION:  \nTom Michel\, LACP\nNAIFA\nPresident\nKevin Mayeux\, CAE\nNAIFA\nCEO\nDiane Boyle\nNAIFA\nSenior Vice President\, Government Relations\nTuesday\, July 20th\n2 pm eastern\n\nJoin us for our Q3 “State of NAIFA” of 2021 webinar . We will provide an update on where NAIFA is as an association and highlight advocacy work to be done this year. They will also provide an update of NAIFA programs and\, most importantly\, provide information to help you get the most out of NAIFA.
URL:https://studymanuals.naifa-florida.org/event/q3-state-of-naifa-2021-webinar/
LOCATION:ZOOM
CATEGORIES:Members Only,Virtual
ORGANIZER;CN="NAIFA":MAILTO:info@naifa.org
END:VEVENT
END:VCALENDAR