BEGIN:VCALENDAR
VERSION:2.0
PRODID:-//NAIFA-Florida - ECPv6.15.16//NONSGML v1.0//EN
CALSCALE:GREGORIAN
METHOD:PUBLISH
X-WR-CALNAME:NAIFA-Florida
X-ORIGINAL-URL:https://studymanuals.naifa-florida.org
X-WR-CALDESC:Events for NAIFA-Florida
REFRESH-INTERVAL;VALUE=DURATION:PT1H
X-Robots-Tag:noindex
X-PUBLISHED-TTL:PT1H
BEGIN:VTIMEZONE
TZID:America/New_York
BEGIN:DAYLIGHT
TZOFFSETFROM:-0500
TZOFFSETTO:-0400
TZNAME:EDT
DTSTART:20200308T070000
END:DAYLIGHT
BEGIN:STANDARD
TZOFFSETFROM:-0400
TZOFFSETTO:-0500
TZNAME:EST
DTSTART:20201101T060000
END:STANDARD
BEGIN:DAYLIGHT
TZOFFSETFROM:-0500
TZOFFSETTO:-0400
TZNAME:EDT
DTSTART:20210314T070000
END:DAYLIGHT
BEGIN:STANDARD
TZOFFSETFROM:-0400
TZOFFSETTO:-0500
TZNAME:EST
DTSTART:20211107T060000
END:STANDARD
BEGIN:DAYLIGHT
TZOFFSETFROM:-0500
TZOFFSETTO:-0400
TZNAME:EDT
DTSTART:20220313T070000
END:DAYLIGHT
BEGIN:STANDARD
TZOFFSETFROM:-0400
TZOFFSETTO:-0500
TZNAME:EST
DTSTART:20221106T060000
END:STANDARD
END:VTIMEZONE
BEGIN:VEVENT
DTSTART;TZID=America/New_York:20210708T130000
DTEND;TZID=America/New_York:20210708T140000
DTSTAMP:20260424T230104
CREATED:20210629T173219Z
LAST-MODIFIED:20210629T173219Z
UID:30610-1625749200-1625752800@studymanuals.naifa-florida.org
SUMMARY:Advisor Ambassador Program
DESCRIPTION:  \n  \n  \n  \n  \n  \nInvite a non-member to join July’s Advisor Ambassador Program. This free\, award-winning advisor-development program allows non-members learn from the best while sampling professional benefits that come with NAIFA membership. \nHelp others experience NAIFA by inviting them to attend the Advisor Ambassador program. \n 
URL:https://studymanuals.naifa-florida.org/event/advisor-ambassador-program-12/
LOCATION:ZOOM
CATEGORIES:Advisor Ambassador Program,New Members,Non-Members,Virtual
ORGANIZER;CN="NAIFA":MAILTO:info@naifa.org
END:VEVENT
BEGIN:VEVENT
DTSTART;TZID=America/New_York:20210708T153000
DTEND;TZID=America/New_York:20210708T163000
DTSTAMP:20260424T230104
CREATED:20210106T164531Z
LAST-MODIFIED:20210608T184550Z
UID:28083-1625758200-1625761800@studymanuals.naifa-florida.org
SUMMARY:NAIFA Chapter Services - Membership Chairs Meeting
DESCRIPTION:Please note that all State and Local Membership Chairs have been registered through the rest of the year. Please check your email for the Zoom login details.  \n If you are not a Membership Chair\, and are interested in attending\, please email leadership@naifa.org.
URL:https://studymanuals.naifa-florida.org/event/naifa-chapter-services-chapter-leaders-meeting-6/
LOCATION:ZOOM
CATEGORIES:Conference Call,Membership,Monthly Leader Webinar,Virtual
ORGANIZER;CN="NAIFA":MAILTO:info@naifa.org
END:VEVENT
END:VCALENDAR