BEGIN:VCALENDAR
VERSION:2.0
PRODID:-//NAIFA-Florida - ECPv6.15.16//NONSGML v1.0//EN
CALSCALE:GREGORIAN
METHOD:PUBLISH
X-ORIGINAL-URL:https://studymanuals.naifa-florida.org
X-WR-CALDESC:Events for NAIFA-Florida
REFRESH-INTERVAL;VALUE=DURATION:PT1H
X-Robots-Tag:noindex
X-PUBLISHED-TTL:PT1H
BEGIN:VTIMEZONE
TZID:America/New_York
BEGIN:DAYLIGHT
TZOFFSETFROM:-0500
TZOFFSETTO:-0400
TZNAME:EDT
DTSTART:20200308T070000
END:DAYLIGHT
BEGIN:STANDARD
TZOFFSETFROM:-0400
TZOFFSETTO:-0500
TZNAME:EST
DTSTART:20201101T060000
END:STANDARD
BEGIN:DAYLIGHT
TZOFFSETFROM:-0500
TZOFFSETTO:-0400
TZNAME:EDT
DTSTART:20210314T070000
END:DAYLIGHT
BEGIN:STANDARD
TZOFFSETFROM:-0400
TZOFFSETTO:-0500
TZNAME:EST
DTSTART:20211107T060000
END:STANDARD
BEGIN:DAYLIGHT
TZOFFSETFROM:-0500
TZOFFSETTO:-0400
TZNAME:EDT
DTSTART:20220313T070000
END:DAYLIGHT
BEGIN:STANDARD
TZOFFSETFROM:-0400
TZOFFSETTO:-0500
TZNAME:EST
DTSTART:20221106T060000
END:STANDARD
END:VTIMEZONE
BEGIN:VEVENT
DTSTART;VALUE=DATE:20210630
DTEND;VALUE=DATE:20210701
DTSTAMP:20260424T201758
CREATED:20210208T185525Z
LAST-MODIFIED:20210609T130913Z
UID:28698-1625011200-1625097599@studymanuals.naifa-florida.org
SUMMARY:NAIFA Tampa Bay Social & Headshots
DESCRIPTION:When: Wednesday\, June 30\, 2021 8:30 AM\, EDT\nWhere: Centre Club\, 123 S West Shore Blvd 8th Floor\, Tampa\, FL 33609 \n  \nEVENT DETAILS: \nNAIFA Tampa Bay Social & Headshots\nJoin NAIFA Tampa Bay on Wednesday\, June 30th at 8:30 a.m. to reconnect with friends and colleagues – NETWORK\, enjoy a relaxed continental breakfast\, complimentary mimosas and get a new head shot! \n\nWednesday\, June 30th\n8:30 to 10:00 a.m.\nCentre Club – 123 S. West Shore Blvd 8th Floor\, Tampa\n  \nNETWORKING\, Continental Breakfast\, short program and headshots!\nComplimentary Mimosas to CELEBRATE will be served.\n  \nHeadshots provided by Rick Tauceda\, Rick Visuals\, Inc.\n\nMEMBER – NO Headshot – FREE\nMEMBER – with Headshot – $35.00\nGUEST – NO Headshot – $10.00\nGUEST – with Headshot – $45.00
URL:https://studymanuals.naifa-florida.org/event/naifa-tampa-yat-social-photo-shoot/
CATEGORIES:Chapter Event,In Person Event,Mixer,Networking,Open to Members & Non-Members,YAT
ORGANIZER;CN="NAIFA-Tampa":MAILTO:info@naifatampa.org
END:VEVENT
BEGIN:VEVENT
DTSTART;TZID=America/New_York:20210630T140000
DTEND;TZID=America/New_York:20210630T150000
DTSTAMP:20260424T201758
CREATED:20210629T172518Z
LAST-MODIFIED:20210629T172518Z
UID:30608-1625061600-1625065200@studymanuals.naifa-florida.org
SUMMARY:Breaking into Business Markets
DESCRIPTION:  \nBreaking Into Business Markets\nDanny O’Connell\nNext Level Insurance Agency\, LLC\nCEO\nWalter Katz\, CFP\, AIF\, ChFC\nThe K Corporation\nPresident\nWednesday\, June 30th\n2 pm eastern\n\n\n\n\n\n\n\n\nEntry to the business market can bring life-changing profitability to your insurance and financial services practice. Where else can one conversation result in the acquisition of hundreds of new clients? While this market may be lucrative\, it is highly competitive. However\, there is a charted path to success in the business market\, a path that Danny O’Connell has successfully navigated. \n“Breaking into Business Markets” is for any advisor who is interested in expanding their practice to include business clients. It is also for those with experience in the business market who would like to gain additional ideas to increase their production. \n\n\n\n\n \n\n\n\n\n\n\nThe webinar is brought to you by
URL:https://studymanuals.naifa-florida.org/event/breaking-into-business-markets/
LOCATION:ZOOM
CATEGORIES:Business Performance Center,Virtual
ORGANIZER;CN="NAIFA":MAILTO:info@naifa.org
END:VEVENT
END:VCALENDAR