BEGIN:VCALENDAR
VERSION:2.0
PRODID:-//NAIFA-Florida - ECPv6.15.16//NONSGML v1.0//EN
CALSCALE:GREGORIAN
METHOD:PUBLISH
X-ORIGINAL-URL:https://studymanuals.naifa-florida.org
X-WR-CALDESC:Events for NAIFA-Florida
REFRESH-INTERVAL;VALUE=DURATION:PT1H
X-Robots-Tag:noindex
X-PUBLISHED-TTL:PT1H
BEGIN:VTIMEZONE
TZID:America/New_York
BEGIN:DAYLIGHT
TZOFFSETFROM:-0500
TZOFFSETTO:-0400
TZNAME:EDT
DTSTART:20200308T070000
END:DAYLIGHT
BEGIN:STANDARD
TZOFFSETFROM:-0400
TZOFFSETTO:-0500
TZNAME:EST
DTSTART:20201101T060000
END:STANDARD
BEGIN:DAYLIGHT
TZOFFSETFROM:-0500
TZOFFSETTO:-0400
TZNAME:EDT
DTSTART:20210314T070000
END:DAYLIGHT
BEGIN:STANDARD
TZOFFSETFROM:-0400
TZOFFSETTO:-0500
TZNAME:EST
DTSTART:20211107T060000
END:STANDARD
BEGIN:DAYLIGHT
TZOFFSETFROM:-0500
TZOFFSETTO:-0400
TZNAME:EDT
DTSTART:20220313T070000
END:DAYLIGHT
BEGIN:STANDARD
TZOFFSETFROM:-0400
TZOFFSETTO:-0500
TZNAME:EST
DTSTART:20221106T060000
END:STANDARD
END:VTIMEZONE
BEGIN:VEVENT
DTSTART;TZID=America/New_York:20210603T140000
DTEND;TZID=America/New_York:20210603T150000
DTSTAMP:20260425T074334
CREATED:20210421T184434Z
LAST-MODIFIED:20210421T184609Z
UID:29730-1622728800-1622732400@studymanuals.naifa-florida.org
SUMMARY:Cost Drivers of the Florida Homeowners Market – Webinar
DESCRIPTION:June 3\, 2021\n2:00 – 3:00 pm\, ET\nZOOM \n \nCraig Duncan\, ChFC President of NAIFA-Florida   \nThis one-hour CE class is designed to educate general lines (P&C) agents on how to communicate with their policyholders the reasons for rapid rate increases in the Florida homeowner market. Included will be discussion on reinsurance markets\, the impact of the CAT Fund on the re-insurance market\, increases in litigation\, and fraudulent claims activity. (NOTE:  This is the same CE class taught on Tuesday\, April 20\, 2021. Attendees of the April 20 class will not receive CE credit for taking the class again on June 3.) Moderator is Craig Duncan\, ChFC\, President of NAIFA-Florida. (This course is approved by the Florida Department of Financial Services for one (1) hour of Continuing Education credit for General Lines (P&C) licensees. Intermediate level. Florida DFS Course #116550\, Offering 1142348. Provider #654\, NAIFA-Florida.) \nThe class will be free for NAIFA members\, $15 for non-members.
URL:https://studymanuals.naifa-florida.org/event/cost-drivers-of-the-florida-homeowners-market-webinar-2/
LOCATION:ZOOM
CATEGORIES:Continuing Education,Open to Members & Non-Members,Professional Development,Virtual
ORGANIZER;CN="NAIFA-Florida":MAILTO:admin@naifa-florida.org
END:VEVENT
END:VCALENDAR