BEGIN:VCALENDAR
VERSION:2.0
PRODID:-//NAIFA-Florida - ECPv6.15.16//NONSGML v1.0//EN
CALSCALE:GREGORIAN
METHOD:PUBLISH
X-WR-CALNAME:NAIFA-Florida
X-ORIGINAL-URL:https://studymanuals.naifa-florida.org
X-WR-CALDESC:Events for NAIFA-Florida
REFRESH-INTERVAL;VALUE=DURATION:PT1H
X-Robots-Tag:noindex
X-PUBLISHED-TTL:PT1H
BEGIN:VTIMEZONE
TZID:America/New_York
BEGIN:DAYLIGHT
TZOFFSETFROM:-0500
TZOFFSETTO:-0400
TZNAME:EDT
DTSTART:20200308T070000
END:DAYLIGHT
BEGIN:STANDARD
TZOFFSETFROM:-0400
TZOFFSETTO:-0500
TZNAME:EST
DTSTART:20201101T060000
END:STANDARD
BEGIN:DAYLIGHT
TZOFFSETFROM:-0500
TZOFFSETTO:-0400
TZNAME:EDT
DTSTART:20210314T070000
END:DAYLIGHT
BEGIN:STANDARD
TZOFFSETFROM:-0400
TZOFFSETTO:-0500
TZNAME:EST
DTSTART:20211107T060000
END:STANDARD
BEGIN:DAYLIGHT
TZOFFSETFROM:-0500
TZOFFSETTO:-0400
TZNAME:EDT
DTSTART:20220313T070000
END:DAYLIGHT
BEGIN:STANDARD
TZOFFSETFROM:-0400
TZOFFSETTO:-0500
TZNAME:EST
DTSTART:20221106T060000
END:STANDARD
END:VTIMEZONE
BEGIN:VEVENT
DTSTART;TZID=America/New_York:20210528T111500
DTEND;TZID=America/New_York:20210528T133000
DTSTAMP:20260426T001135
CREATED:20210505T134741Z
LAST-MODIFIED:20210505T135322Z
UID:29950-1622200500-1622208600@studymanuals.naifa-florida.org
SUMMARY:NAIFA-Central Florida 2 Hours CE Class
DESCRIPTION:NAIFA Central Florida\nTwo Hours CE Class\nNAIFA-CF is pleased to offer a two hours CE class on Friday\, May 28\, from 11:15 am to 1:30 pm.\nTOPIC: Why Disability Income – Virtual Class Course #117625 Course Offering #1142735\nInstructor: Michael Aun\, FIC\, LUTCF\, CSP®\, CPAE Speaker Hall of Fame® \n  \nFrom 11:15-11:30 is a Million Dollar Sales Idea and the CE Class is from 11:30 am to 1:30 pm. \nCOST\nNAIFA Members – Free\nNon-Members $15 \nClick the link below to register for the ZOOM call. You MUST register to participate.  The link to Zoom will be provided in your registration confirmation email.  If you do not receive a confirmation email immediately after registering\, please check your spam folder.  A reminder email will be sent the morning of the class \nFriday\, May 28\, 2021\n11:15 am to 1:30 pm\nYour location
URL:https://studymanuals.naifa-florida.org/event/naifa-central-florida-2-hours-ce-class/
LOCATION:ZOOM
CATEGORIES:Chapter Event,Continuing Education,Open to Members & Non-Members,Virtual
ORGANIZER;CN="NAIFA-Central Florida":MAILTO:paula@naifacf.org
END:VEVENT
END:VCALENDAR